Workbook

Sheet 기본설정·안내
A1: 기간제교원 발령대장 입력·출력 기본파일
A3: 기본 설정 | B3: 입력값
A4: 학교명(소속) | B4: 학돌중학교
A5: 발령권자 | B5: 학교장
A6: 기본 발령근거 | B6: 학돌중-
A7: 기재자날인
A8: 확인자날인
A9: 기본 비고
A11: 입력 원칙 | B11: 내용
A12: 입력 항목 | B12: 직위(급), 과목, 성명, 생년월일 또는 주민번호, 임용시작일, 임용종료일, 호봉을 입력합니다.
A13: 1행 1기간 | B13: 한 행에는 한 사람의 한 개 임용기간을 입력합니다.
A14: 발령일 | B14: 출력 시 임용시작일이 발령일로 자동 표시됩니다.
A15: 소속·발령권자 | B15: 위 기본 설정값이 발령대장 출력 시 자동 반영됩니다.
A16: 발령사항 | B16: 직위(급), 과목, 호봉, 임용기간으로 자동 작성됩니다.
A17: 주민번호 | B17: 경력증명서 발급을 위한 값이며 발령대장 출력에는 표시하지 않습니다.
A18: 인쇄 | B18: 발령대장_출력 시트의 1~4행을 인쇄 제목으로 반복 지정하면 편리합니다.

Sheet 발령대장_입력
A1: 직위(급) | B1: 과목 | C1: 성명 | D1: 생년월일 또는 주민번호 | E1: 임용시작일 | F1: 임용종료일 | G1: 호봉
A2: 기간제교사 | B2: 물리 | C2: 예) 홍길동 | D2: 900101 | E2: 46082 | F2: 46446 | G2: 21
A3: 기간제교사
A4: 기간제교사
A5: 기간제교사
A6: 기간제교사
A7: 기간제교사
A8: 기간제교사
A9: 기간제교사
A10: 기간제교사
A11: 기간제교사
A12: 기간제교사
A13: 기간제교사
A14: 기간제교사
... A500: 기간제교사

Sheet 발령대장_출력
A1: ■ 교육공무원 인사기록 및 인사사무 처리 규칙 [별지 제24호서식] <개정 2013.11.13>
A2: 발 령 대 장
A4: 발 령 일 | B4: 소 속 | C4: 직위(직급) | D4: 성 명 | E4: 발 령 사 항 | F4: 발 령 권 자 | G4: 발 령 근 거 | H4: 기재자날인 | I4: 확인자날인 | J4: 비 고
A5: =IF(발령대장_입력!$C2="","",발령대장_입력!$E2) -> 46082 | B5: =IF($A5="","",IF(기본설정·안내!$B$4="","",기본설정·안내!$B$4)) -> 학돌중학교 | C5: =IF($A5="","",IF(발령대장_입력!$B2="",발령대장_입력!$A2,발령대장_입력!$A2&CHAR(10)&"("&발령대장_입력!$B2&")")) -> 기간제교사 (물리) | D5: =IF($A5="","",발령대장_입력!$C2&IF(발령대장_입력!$D2="","",CHAR(10)&"("&IF(AND(ISNUMBER(발령대장_입력!$D2),LEN(TEXT(발령대장_입력!$D2,"0"))<6),TEXT(발령대장_입력!$D2,"yyyy. m. d."),IF(LEN(SUBSTITUTE(SUBSTITUTE(SUBSTITUTE(TRIM(발령대장_입력!$D2),"-",""),".","")," ",""))=13,TEXT(DATE(IF(OR(MID(SUBSTITUTE(SUBSTITUTE(SUBSTITUTE(TRIM(발령대장_입력!$D2),"-",""),".","")," ",""),7,1)="1",MID(SUBSTITUTE(SUBSTITUTE(SUBSTITUTE(TRIM(발령대장_입력!$D2),"-",""),".","")," ",""),7,1)="2",MID(SUBSTITUTE(SUBSTITUTE(SUBSTITUTE(TRIM(발령대장_입력!$D2),"-",""),".","")," ",""),7,1)="5",MID(SUBSTITUTE(SUBSTITUTE(SUBSTITUTE(TRIM(발령대장_입력!$D2),"-",""),".","")," ",""),7,1)="6"),1900+VALUE(LEFT(SUBSTITUTE(SUBSTITUTE(SUBSTITUTE(TRIM(발령대장_입력!$D2),"-",""),".","")," ",""),2)),IF(OR(MID(SUBSTITUTE(SUBSTITUTE(SUBSTITUTE(TRIM(발령대장_입력!$D2),"-",""),".","")," ",""),7,1)="3",MID(SUBSTITUTE(SUBSTITUTE(SUBSTITUTE(TRIM(발령대장_입력!$D2),"-",""),".","")," ",""),7,1)="4",MID(SUBSTITUTE(SUBSTITUTE(SUBSTITUTE(TRIM(발령대장_입력!$D2),"-",""),".","")," ",""),7,1)="7",MID(SUBSTITUTE(SUBSTITUTE(SUBSTITUTE(TRIM(발령대장_입력!$D2),"-",""),".","")," ",""),7,1)="8"),2000+VALUE(LEFT(SUBSTITUTE(SUBSTITUTE(SUBSTITUTE(TRIM(발령대장_입력!$D2),"-",""),".","")," ",""),2)),1800+VALUE(LEFT(SUBSTITUTE(SUBSTITUTE(SUBSTITUTE(TRIM(발령대장_입력!$D2),"-",""),".","")," ",""),2)))),VALUE(MID(SUBSTITUTE(SUBSTITUTE(SUBSTITUTE(TRIM(발령대장_입력!$D2),"-",""),".","")," ",""),3,2)),VALUE(MID(SUBSTITUTE(SUBSTITUTE(SUBSTITUTE(TRIM(발령대장_입력!$D2),"-",""),".","")," ",""),5,2))),"yyyy. m. d."),IF(LEN(SUBSTITUTE(SUBSTITUTE(SUBSTITUTE(TRIM(발령대장_입력!$D2),"-",""),".","")," ",""))=8,TEXT(DATE(VALUE(LEFT(SUBSTITUTE(SUBSTITUTE(SUBSTITUTE(TRIM(발령대장_입력!$D2),"-",""),".","")," ",""),4)),VALUE(MID(SUBSTITUTE(SUBSTITUTE(SUBSTITUTE(TRIM(발령대장_입력!$D2),"-",""),".","")," ",""),5,2)),VALUE(RIGHT(SUBSTITUTE(SUBSTITUTE(SUBSTITUTE(TRIM(발령대장_입력!$D2),"-",""),".","")," ",""),2))),"yyyy. m. d."),IF(LEN(SUBSTITUTE(SUBSTITUTE(SUBSTITUTE(TRIM(발령대장_입력!$D2),"-",""),".","")," ",""))=6,TEXT(DATE(IF(VALUE(LEFT(SUBSTITUTE(SUBSTITUTE(SUBSTITUTE(TRIM(발령대장_입력!$D2),"-",""),".","")," ",""),2))<=MOD(YEAR(TODAY()),100),2000+VALUE(LEFT(SUBSTITUTE(SUBSTITUTE(SUBSTITUTE(TRIM(발령대장_입력!$D2),"-",""),".","")," ",""),2)),1900+VALUE(LEFT(SUBSTITUTE(SUBSTITUTE(SUBSTITUTE(TRIM(발령대장_입력!$D2),"-",""),".","")," ",""),2))),VALUE(MID(SUBSTITUTE(SUBSTITUTE(SUBSTITUTE(TRIM(발령대장_입력!$D2),"-",""),".","")," ",""),3,2)),VALUE(RIGHT(SUBSTITUTE(SUBSTITUTE(SUBSTITUTE(TRIM(발령대장_입력!$D2),"-",""),".","")," ",""),2))),"yyyy. m. d."),IFERROR(TEXT(DATEVALUE(발령대장_입력!$D2),"yyyy. m. d."),발령대장_입력!$D2)))))&")")) -> 예) 홍길동 (1990. 1. 1.) | E5: =IF($A5="","",발령대장_입력!$A2&"에 임함"&IF(발령대장_입력!$B2="","",CHAR(10)&"("&발령대장_입력!$B2&")")&IF(발령대장_입력!$G2="","",CHAR(10)&"("&SUBSTITUTE(SUBSTITUTE(발령대장_입력!$G2,"호봉","")," ","")&")호봉을 급함")&CHAR(10)&"임용기간: "&YEAR(발령대장_입력!$E2)&"."&MONTH(발령대장_입력!$E2)&"."&DAY(발령대장_입력!$E2)&"."&" ~ "&YEAR(발령대장_입력!$F2)&"."&MONTH(발령대장_입력!$F2)&"."&DAY(발령대장_입력!$F2)&".") -> 기간제교사에 임함 (물리) (21)호봉을 급함 임용기간: 2026.3.1. ~ 2027.2.28. | F5: =IF($A5="","",IF(기본설정·안내!$B$5="","",기본설정·안내!$B$5)) -> 학교장 | G5: =IF($A5="","",IF(기본설정·안내!$B$6="","",기본설정·안내!$B$6)) -> 학돌중- | H5: =IF($A5="","",IF(기본설정·안내!$B$7="","",기본설정·안내!$B$7)) | I5: =IF($A5="","",IF(기본설정·안내!$B$8="","",기본설정·안내!$B$8)) | J5: =IF($A5="","",IF(기본설정·안내!$B$9="","",기본설정·안내!$B$9))
A6: =IF(발령대장_입력!$C3="","",발령대장_입력!$E3) | B6: =IF($A6="","",IF(기본설정·안내!$B$4="","",기본설정·안내!$B$4)) | C6: =IF($A6="","",IF(발령대장_입력!$B3="",발령대장_입력!$A3,발령대장_입력!$A3&CHAR(10)&"("&발령대장_입력!$B3&")")) | D6: =IF($A6="","",발령대장_입력!$C3&IF(발령대장_입력!$D3="","",CHAR(10)&"("&IF(AND(ISNUMBER(발령대장_입력!$D3),LEN(TEXT(발령대장_입력!$D3,"0"))<6),TEXT(발령대장_입력!$D3,"yyyy. m. d."),IF(LEN(SUBSTITUTE(SUBSTITUTE(SUBSTITUTE(TRIM(발령대장_입력!$D3),"-",""),".","")," ",""))=13,TEXT(DATE(IF(OR(MID(SUBSTITUTE(SUBSTITUTE(SUBSTITUTE(TRIM(발령대장_입력!$D3),"-",""),".","")," ",""),7,1)="1",MID(SUBSTITUTE(SUBSTITUTE(SUBSTITUTE(TRIM(발령대장_입력!$D3),"-",""),".","")," ",""),7,1)="2",MID(SUBSTITUTE(SUBSTITUTE(SUBSTITUTE(TRIM(발령대장_입력!$D3),"-",""),".","")," ",""),7,1)="5",MID(SUBSTITUTE(SUBSTITUTE(SUBSTITUTE(TRIM(발령대장_입력!$D3),"-",""),".","")," ",""),7,1)="6"),1900+VALUE(LEFT(SUBSTITUTE(SUBSTITUTE(SUBSTITUTE(TRIM(발령대장_입력!$D3),"-",""),".","")," ",""),2)),IF(OR(MID(SUBSTITUTE(SUBSTITUTE(SUBSTITUTE(TRIM(발령대장_입력!$D3),"-",""),".","")," ",""),7,1)="3",MID(SUBSTITUTE(SUBSTITUTE(SUBSTITUTE(TRIM(발령대장_입력!$D3),"-",""),".","")," ",""),7,1)="4",MID(SUBSTITUTE(SUBSTITUTE(SUBSTITUTE(TRIM(발령대장_입력!$D3),"-",""),".","")," ",""),7,1)="7",MID(SUBSTITUTE(SUBSTITUTE(SUBSTITUTE(TRIM(발령대장_입력!$D3),"-",""),".","")," ",""),7,1)="8"),2000+VALUE(LEFT(SUBSTITUTE(SUBSTITUTE(SUBSTITUTE(TRIM(발령대장_입력!$D3),"-",""),".","")," ",""),2)),1800+VALUE(LEFT(SUBSTITUTE(SUBSTITUTE(SUBSTITUTE(TRIM(발령대장_입력!$D3),"-",""),".","")," ",""),2)))),VALUE(MID(SUBSTITUTE(SUBSTITUTE(SUBSTITUTE(TRIM(발령대장_입력!$D3),"-",""),".","")," ",""),3,2)),VALUE(MID(SUBSTITUTE(SUBSTITUTE(SUBSTITUTE(TRIM(발령대장_입력!$D3),"-",""),".","")," ",""),5,2))),"yyyy. m. d."),IF(LEN(SUBSTITUTE(SUBSTITUTE(SUBSTITUTE(TRIM(발령대장_입력!$D3),"-",""),".","")," ",""))=8,TEXT(DATE(VALUE(LEFT(SUBSTITUTE(SUBSTITUTE(SUBSTITUTE(TRIM(발령대장_입력!$D3),"-",""),".","")," ",""),4)),VALUE(MID(SUBSTITUTE(SUBSTITUTE(SUBSTITUTE(TRIM(발령대장_입력!$D3),"-",""),".","")," ",""),5,2)),VALUE(RIGHT(SUBSTITUTE(SUBSTITUTE(SUBSTITUTE(TRIM(발령대장_입력!$D3),"-",""),".","")," ",""),2))),"yyyy. m. d."),IF(LEN(SUBSTITUTE(SUBSTITUTE(SUBSTITUTE(TRIM(발령대장_입력!$D3),"-",""),".","")," ",""))=6,TEXT(DATE(IF(VALUE(LEFT(SUBSTITUTE(SUBSTITUTE(SUBSTITUTE(TRIM(발령대장_입력!$D3),"-",""),".","")," ",""),2))<=MOD(YEAR(TODAY()),100),2000+VALUE(LEFT(SUBSTITUTE(SUBSTITUTE(SUBSTITUTE(TRIM(발령대장_입력!$D3),"-",""),".","")," ",""),2)),1900+VALUE(LEFT(SUBSTITUTE(SUBSTITUTE(SUBSTITUTE(TRIM(발령대장_입력!$D3),"-",""),".","")," ",""),2))),VALUE(MID(SUBSTITUTE(SUBSTITUTE(SUBSTITUTE(TRIM(발령대장_입력!$D3),"-",""),".","")," ",""),3,2)),VALUE(RIGHT(SUBSTITUTE(SUBSTITUTE(SUBSTITUTE(TRIM(발령대장_입력!$D3),"-",""),".","")," ",""),2))),"yyyy. m. d."),IFERROR(TEXT(DATEVALUE(발령대장_입력!$D3),"yyyy. m. d."),발령대장_입력!$D3)))))&")")) | E6: =IF($A6="","",발령대장_입력!$A3&"에 임함"&IF(발령대장_입력!$B3="","",CHAR(10)&"("&발령대장_입력!$B3&")")&IF(발령대장_입력!$G3="","",CHAR(10)&"("&SUBSTITUTE(SUBSTITUTE(발령대장_입력!$G3,"호봉","")," ","")&")호봉을 급함")&CHAR(10)&"임용기간: "&YEAR(발령대장_입력!$E3)&"."&MONTH(발령대장_입력!$E3)&"."&DAY(발령대장_입력!$E3)&"."&" ~ "&YEAR(발령대장_입력!$F3)&"."&MONTH(발령대장_입력!$F3)&"."&DAY(발령대장_입력!$F3)&".") | F6: =IF($A6="","",IF(기본설정·안내!$B$5="","",기본설정·안내!$B$5)) | G6: =IF($A6="","",IF(기본설정·안내!$B$6="","",기본설정·안내!$B$6)) | H6: =IF($A6="","",IF(기본설정·안내!$B$7="","",기본설정·안내!$B$7)) | I6: =IF($A6="","",IF(기본설정·안내!$B$8="","",기본설정·안내!$B$8)) | J6: =IF($A6="","",IF(기본설정·안내!$B$9="","",기본설정·안내!$B$9))
A7: =IF(발령대장_입력!$C4="","",발령대장_입력!$E4) | B7: =IF($A7="","",IF(기본설정·안내!$B$4="","",기본설정·안내!$B$4)) | C7: =IF($A7="","",IF(발령대장_입력!$B4="",발령대장_입력!$A4,발령대장_입력!$A4&CHAR(10)&"("&발령대장_입력!$B4&")")) | D7: =IF($A7="","",발령대장_입력!$C4&IF(발령대장_입력!$D4="","",CHAR(10)&"("&IF(AND(ISNUMBER(발령대장_입력!$D4),LEN(TEXT(발령대장_입력!$D4,"0"))<6),TEXT(발령대장_입력!$D4,"yyyy. m. d."),IF(LEN(SUBSTITUTE(SUBSTITUTE(SUBSTITUTE(TRIM(발령대장_입력!$D4),"-",""),".","")," ",""))=13,TEXT(DATE(IF(OR(MID(SUBSTITUTE(SUBSTITUTE(SUBSTITUTE(TRIM(발령대장_입력!$D4),"-",""),".","")," ",""),7,1)="1",MID(SUBSTITUTE(SUBSTITUTE(SUBSTITUTE(TRIM(발령대장_입력!$D4),"-",""),".","")," ",""),7,1)="2",MID(SUBSTITUTE(SUBSTITUTE(SUBSTITUTE(TRIM(발령대장_입력!$D4),"-",""),".","")," ",""),7,1)="5",MID(SUBSTITUTE(SUBSTITUTE(SUBSTITUTE(TRIM(발령대장_입력!$D4),"-",""),".","")," ",""),7,1)="6"),1900+VALUE(LEFT(SUBSTITUTE(SUBSTITUTE(SUBSTITUTE(TRIM(발령대장_입력!$D4),"-",""),".","")," ",""),2)),IF(OR(MID(SUBSTITUTE(SUBSTITUTE(SUBSTITUTE(TRIM(발령대장_입력!$D4),"-",""),".","")," ",""),7,1)="3",MID(SUBSTITUTE(SUBSTITUTE(SUBSTITUTE(TRIM(발령대장_입력!$D4),"-",""),".","")," ",""),7,1)="4",MID(SUBSTITUTE(SUBSTITUTE(SUBSTITUTE(TRIM(발령대장_입력!$D4),"-",""),".","")," ",""),7,1)="7",MID(SUBSTITUTE(SUBSTITUTE(SUBSTITUTE(TRIM(발령대장_입력!$D4),"-",""),".","")," ",""),7,1)="8"),2000+VALUE(LEFT(SUBSTITUTE(SUBSTITUTE(SUBSTITUTE(TRIM(발령대장_입력!$D4),"-",""),".","")," ",""),2)),1800+VALUE(LEFT(SUBSTITUTE(SUBSTITUTE(SUBSTITUTE(TRIM(발령대장_입력!$D4),"-",""),".","")," ",""),2)))),VALUE(MID(SUBSTITUTE(SUBSTITUTE(SUBSTITUTE(TRIM(발령대장_입력!$D4),"-",""),".","")," ",""),3,2)),VALUE(MID(SUBSTITUTE(SUBSTITUTE(SUBSTITUTE(TRIM(발령대장_입력!$D4),"-",""),".","")," ",""),5,2))),"yyyy. m. d."),IF(LEN(SUBSTITUTE(SUBSTITUTE(SUBSTITUTE(TRIM(발령대장_입력!$D4),"-",""),".","")," ",""))=8,TEXT(DATE(VALUE(LEFT(SUBSTITUTE(SUBSTITUTE(SUBSTITUTE(TRIM(발령대장_입력!$D4),"-",""),".","")," ",""),4)),VALUE(MID(SUBSTITUTE(SUBSTITUTE(SUBSTITUTE(TRIM(발령대장_입력!$D4),"-",""),".","")," ",""),5,2)),VALUE(RIGHT(SUBSTITUTE(SUBSTITUTE(SUBSTITUTE(TRIM(발령대장_입력!$D4),"-",""),".","")," ",""),2))),"yyyy. m. d."),IF(LEN(SUBSTITUTE(SUBSTITUTE(SUBSTITUTE(TRIM(발령대장_입력!$D4),"-",""),".","")," ",""))=6,TEXT(DATE(IF(VALUE(LEFT(SUBSTITUTE(SUBSTITUTE(SUBSTITUTE(TRIM(발령대장_입력!$D4),"-",""),".","")," ",""),2))<=MOD(YEAR(TODAY()),100),2000+VALUE(LEFT(SUBSTITUTE(SUBSTITUTE(SUBSTITUTE(TRIM(발령대장_입력!$D4),"-",""),".","")," ",""),2)),1900+VALUE(LEFT(SUBSTITUTE(SUBSTITUTE(SUBSTITUTE(TRIM(발령대장_입력!$D4),"-",""),".","")," ",""),2))),VALUE(MID(SUBSTITUTE(SUBSTITUTE(SUBSTITUTE(TRIM(발령대장_입력!$D4),"-",""),".","")," ",""),3,2)),VALUE(RIGHT(SUBSTITUTE(SUBSTITUTE(SUBSTITUTE(TRIM(발령대장_입력!$D4),"-",""),".","")," ",""),2))),"yyyy. m. d."),IFERROR(TEXT(DATEVALUE(발령대장_입력!$D4),"yyyy. m. d."),발령대장_입력!$D4)))))&")")) | E7: =IF($A7="","",발령대장_입력!$A4&"에 임함"&IF(발령대장_입력!$B4="","",CHAR(10)&"("&발령대장_입력!$B4&")")&IF(발령대장_입력!$G4="","",CHAR(10)&"("&SUBSTITUTE(SUBSTITUTE(발령대장_입력!$G4,"호봉","")," ","")&")호봉을 급함")&CHAR(10)&"임용기간: "&YEAR(발령대장_입력!$E4)&"."&MONTH(발령대장_입력!$E4)&"."&DAY(발령대장_입력!$E4)&"."&" ~ "&YEAR(발령대장_입력!$F4)&"."&MONTH(발령대장_입력!$F4)&"."&DAY(발령대장_입력!$F4)&".") | F7: =IF($A7="","",IF(기본설정·안내!$B$5="","",기본설정·안내!$B$5)) | G7: =IF($A7="","",IF(기본설정·안내!$B$6="","",기본설정·안내!$B$6)) | H7: =IF($A7="","",IF(기본설정·안내!$B$7="","",기본설정·안내!$B$7)) | I7: =IF($A7="","",IF(기본설정·안내!$B$8="","",기본설정·안내!$B$8)) | J7: =IF($A7="","",IF(기본설정·안내!$B$9="","",기본설정·안내!$B$9))
A8: =IF(발령대장_입력!$C5="","",발령대장_입력!$E5) | B8: =IF($A8="","",IF(기본설정·안내!$B$4="","",기본설정·안내!$B$4)) | C8: =IF($A8="","",IF(발령대장_입력!$B5="",발령대장_입력!$A5,발령대장_입력!$A5&CHAR(10)&"("&발령대장_입력!$B5&")")) | D8: =IF($A8="","",발령대장_입력!$C5&IF(발령대장_입력!$D5="","",CHAR(10)&"("&IF(AND(ISNUMBER(발령대장_입력!$D5),LEN(TEXT(발령대장_입력!$D5,"0"))<6),TEXT(발령대장_입력!$D5,"yyyy. m. d."),IF(LEN(SUBSTITUTE(SUBSTITUTE(SUBSTITUTE(TRIM(발령대장_입력!$D5),"-",""),".","")," ",""))=13,TEXT(DATE(IF(OR(MID(SUBSTITUTE(SUBSTITUTE(SUBSTITUTE(TRIM(발령대장_입력!$D5),"-",""),".","")," ",""),7,1)="1",MID(SUBSTITUTE(SUBSTITUTE(SUBSTITUTE(TRIM(발령대장_입력!$D5),"-",""),".","")," ",""),7,1)="2",MID(SUBSTITUTE(SUBSTITUTE(SUBSTITUTE(TRIM(발령대장_입력!$D5),"-",""),".","")," ",""),7,1)="5",MID(SUBSTITUTE(SUBSTITUTE(SUBSTITUTE(TRIM(발령대장_입력!$D5),"-",""),".","")," ",""),7,1)="6"),1900+VALUE(LEFT(SUBSTITUTE(SUBSTITUTE(SUBSTITUTE(TRIM(발령대장_입력!$D5),"-",""),".","")," ",""),2)),IF(OR(MID(SUBSTITUTE(SUBSTITUTE(SUBSTITUTE(TRIM(발령대장_입력!$D5),"-",""),".","")," ",""),7,1)="3",MID(SUBSTITUTE(SUBSTITUTE(SUBSTITUTE(TRIM(발령대장_입력!$D5),"-",""),".","")," ",""),7,1)="4",MID(SUBSTITUTE(SUBSTITUTE(SUBSTITUTE(TRIM(발령대장_입력!$D5),"-",""),".","")," ",""),7,1)="7",MID(SUBSTITUTE(SUBSTITUTE(SUBSTITUTE(TRIM(발령대장_입력!$D5),"-",""),".","")," ",""),7,1)="8"),2000+VALUE(LEFT(SUBSTITUTE(SUBSTITUTE(SUBSTITUTE(TRIM(발령대장_입력!$D5),"-",""),".","")," ",""),2)),1800+VALUE(LEFT(SUBSTITUTE(SUBSTITUTE(SUBSTITUTE(TRIM(발령대장_입력!$D5),"-",""),".","")," ",""),2)))),VALUE(MID(SUBSTITUTE(SUBSTITUTE(SUBSTITUTE(TRIM(발령대장_입력!$D5),"-",""),".","")," ",""),3,2)),VALUE(MID(SUBSTITUTE(SUBSTITUTE(SUBSTITUTE(TRIM(발령대장_입력!$D5),"-",""),".","")," ",""),5,2))),"yyyy. m. d."),IF(LEN(SUBSTITUTE(SUBSTITUTE(SUBSTITUTE(TRIM(발령대장_입력!$D5),"-",""),".","")," ",""))=8,TEXT(DATE(VALUE(LEFT(SUBSTITUTE(SUBSTITUTE(SUBSTITUTE(TRIM(발령대장_입력!$D5),"-",""),".","")," ",""),4)),VALUE(MID(SUBSTITUTE(SUBSTITUTE(SUBSTITUTE(TRIM(발령대장_입력!$D5),"-",""),".","")," ",""),5,2)),VALUE(RIGHT(SUBSTITUTE(SUBSTITUTE(SUBSTITUTE(TRIM(발령대장_입력!$D5),"-",""),".","")," ",""),2))),"yyyy. m. d."),IF(LEN(SUBSTITUTE(SUBSTITUTE(SUBSTITUTE(TRIM(발령대장_입력!$D5),"-",""),".","")," ",""))=6,TEXT(DATE(IF(VALUE(LEFT(SUBSTITUTE(SUBSTITUTE(SUBSTITUTE(TRIM(발령대장_입력!$D5),"-",""),".","")," ",""),2))<=MOD(YEAR(TODAY()),100),2000+VALUE(LEFT(SUBSTITUTE(SUBSTITUTE(SUBSTITUTE(TRIM(발령대장_입력!$D5),"-",""),".","")," ",""),2)),1900+VALUE(LEFT(SUBSTITUTE(SUBSTITUTE(SUBSTITUTE(TRIM(발령대장_입력!$D5),"-",""),".","")," ",""),2))),VALUE(MID(SUBSTITUTE(SUBSTITUTE(SUBSTITUTE(TRIM(발령대장_입력!$D5),"-",""),".","")," ",""),3,2)),VALUE(RIGHT(SUBSTITUTE(SUBSTITUTE(SUBSTITUTE(TRIM(발령대장_입력!$D5),"-",""),".","")," ",""),2))),"yyyy. m. d."),IFERROR(TEXT(DATEVALUE(발령대장_입력!$D5),"yyyy. m. d."),발령대장_입력!$D5)))))&")")) | E8: =IF($A8="","",발령대장_입력!$A5&"에 임함"&IF(발령대장_입력!$B5="","",CHAR(10)&"("&발령대장_입력!$B5&")")&IF(발령대장_입력!$G5="","",CHAR(10)&"("&SUBSTITUTE(SUBSTITUTE(발령대장_입력!$G5,"호봉","")," ","")&")호봉을 급함")&CHAR(10)&"임용기간: "&YEAR(발령대장_입력!$E5)&"."&MONTH(발령대장_입력!$E5)&"."&DAY(발령대장_입력!$E5)&"."&" ~ "&YEAR(발령대장_입력!$F5)&"."&MONTH(발령대장_입력!$F5)&"."&DAY(발령대장_입력!$F5)&".") | F8: =IF($A8="","",IF(기본설정·안내!$B$5="","",기본설정·안내!$B$5)) | G8: =IF($A8="","",IF(기본설정·안내!$B$6="","",기본설정·안내!$B$6)) | H8: =IF($A8="","",IF(기본설정·안내!$B$7="","",기본설정·안내!$B$7)) | I8: =IF($A8="","",IF(기본설정·안내!$B$8="","",기본설정·안내!$B$8)) | J8: =IF($A8="","",IF(기본설정·안내!$B$9="","",기본설정·안내!$B$9))
A9: =IF(발령대장_입력!$C6="","",발령대장_입력!$E6) | B9: =IF($A9="","",IF(기본설정·안내!$B$4="","",기본설정·안내!$B$4)) | C9: =IF($A9="","",IF(발령대장_입력!$B6="",발령대장_입력!$A6,발령대장_입력!$A6&CHAR(10)&"("&발령대장_입력!$B6&")")) | D9: =IF($A9="","",발령대장_입력!$C6&IF(발령대장_입력!$D6="","",CHAR(10)&"("&IF(AND(ISNUMBER(발령대장_입력!$D6),LEN(TEXT(발령대장_입력!$D6,"0"))<6),TEXT(발령대장_입력!$D6,"yyyy. m. d."),IF(LEN(SUBSTITUTE(SUBSTITUTE(SUBSTITUTE(TRIM(발령대장_입력!$D6),"-",""),".","")," ",""))=13,TEXT(DATE(IF(OR(MID(SUBSTITUTE(SUBSTITUTE(SUBSTITUTE(TRIM(발령대장_입력!$D6),"-",""),".","")," ",""),7,1)="1",MID(SUBSTITUTE(SUBSTITUTE(SUBSTITUTE(TRIM(발령대장_입력!$D6),"-",""),".","")," ",""),7,1)="2",MID(SUBSTITUTE(SUBSTITUTE(SUBSTITUTE(TRIM(발령대장_입력!$D6),"-",""),".","")," ",""),7,1)="5",MID(SUBSTITUTE(SUBSTITUTE(SUBSTITUTE(TRIM(발령대장_입력!$D6),"-",""),".","")," ",""),7,1)="6"),1900+VALUE(LEFT(SUBSTITUTE(SUBSTITUTE(SUBSTITUTE(TRIM(발령대장_입력!$D6),"-",""),".","")," ",""),2)),IF(OR(MID(SUBSTITUTE(SUBSTITUTE(SUBSTITUTE(TRIM(발령대장_입력!$D6),"-",""),".","")," ",""),7,1)="3",MID(SUBSTITUTE(SUBSTITUTE(SUBSTITUTE(TRIM(발령대장_입력!$D6),"-",""),".","")," ",""),7,1)="4",MID(SUBSTITUTE(SUBSTITUTE(SUBSTITUTE(TRIM(발령대장_입력!$D6),"-",""),".","")," ",""),7,1)="7",MID(SUBSTITUTE(SUBSTITUTE(SUBSTITUTE(TRIM(발령대장_입력!$D6),"-",""),".","")," ",""),7,1)="8"),2000+VALUE(LEFT(SUBSTITUTE(SUBSTITUTE(SUBSTITUTE(TRIM(발령대장_입력!$D6),"-",""),".","")," ",""),2)),1800+VALUE(LEFT(SUBSTITUTE(SUBSTITUTE(SUBSTITUTE(TRIM(발령대장_입력!$D6),"-",""),".","")," ",""),2)))),VALUE(MID(SUBSTITUTE(SUBSTITUTE(SUBSTITUTE(TRIM(발령대장_입력!$D6),"-",""),".","")," ",""),3,2)),VALUE(MID(SUBSTITUTE(SUBSTITUTE(SUBSTITUTE(TRIM(발령대장_입력!$D6),"-",""),".","")," ",""),5,2))),"yyyy. m. d."),IF(LEN(SUBSTITUTE(SUBSTITUTE(SUBSTITUTE(TRIM(발령대장_입력!$D6),"-",""),".","")," ",""))=8,TEXT(DATE(VALUE(LEFT(SUBSTITUTE(SUBSTITUTE(SUBSTITUTE(TRIM(발령대장_입력!$D6),"-",""),".","")," ",""),4)),VALUE(MID(SUBSTITUTE(SUBSTITUTE(SUBSTITUTE(TRIM(발령대장_입력!$D6),"-",""),".","")," ",""),5,2)),VALUE(RIGHT(SUBSTITUTE(SUBSTITUTE(SUBSTITUTE(TRIM(발령대장_입력!$D6),"-",""),".","")," ",""),2))),"yyyy. m. d."),IF(LEN(SUBSTITUTE(SUBSTITUTE(SUBSTITUTE(TRIM(발령대장_입력!$D6),"-",""),".","")," ",""))=6,TEXT(DATE(IF(VALUE(LEFT(SUBSTITUTE(SUBSTITUTE(SUBSTITUTE(TRIM(발령대장_입력!$D6),"-",""),".","")," ",""),2))<=MOD(YEAR(TODAY()),100),2000+VALUE(LEFT(SUBSTITUTE(SUBSTITUTE(SUBSTITUTE(TRIM(발령대장_입력!$D6),"-",""),".","")," ",""),2)),1900+VALUE(LEFT(SUBSTITUTE(SUBSTITUTE(SUBSTITUTE(TRIM(발령대장_입력!$D6),"-",""),".","")," ",""),2))),VALUE(MID(SUBSTITUTE(SUBSTITUTE(SUBSTITUTE(TRIM(발령대장_입력!$D6),"-",""),".","")," ",""),3,2)),VALUE(RIGHT(SUBSTITUTE(SUBSTITUTE(SUBSTITUTE(TRIM(발령대장_입력!$D6),"-",""),".","")," ",""),2))),"yyyy. m. d."),IFERROR(TEXT(DATEVALUE(발령대장_입력!$D6),"yyyy. m. d."),발령대장_입력!$D6)))))&")")) | E9: =IF($A9="","",발령대장_입력!$A6&"에 임함"&IF(발령대장_입력!$B6="","",CHAR(10)&"("&발령대장_입력!$B6&")")&IF(발령대장_입력!$G6="","",CHAR(10)&"("&SUBSTITUTE(SUBSTITUTE(발령대장_입력!$G6,"호봉","")," ","")&")호봉을 급함")&CHAR(10)&"임용기간: "&YEAR(발령대장_입력!$E6)&"."&MONTH(발령대장_입력!$E6)&"."&DAY(발령대장_입력!$E6)&"."&" ~ "&YEAR(발령대장_입력!$F6)&"."&MONTH(발령대장_입력!$F6)&"."&DAY(발령대장_입력!$F6)&".") | F9: =IF($A9="","",IF(기본설정·안내!$B$5="","",기본설정·안내!$B$5)) | G9: =IF($A9="","",IF(기본설정·안내!$B$6="","",기본설정·안내!$B$6)) | H9: =IF($A9="","",IF(기본설정·안내!$B$7="","",기본설정·안내!$B$7)) | I9: =IF($A9="","",IF(기본설정·안내!$B$8="","",기본설정·안내!$B$8)) | J9: =IF($A9="","",IF(기본설정·안내!$B$9="","",기본설정·안내!$B$9))
A10: =IF(발령대장_입력!$C7="","",발령대장_입력!$E7) | B10: =IF($A10="","",IF(기본설정·안내!$B$4="","",기본설정·안내!$B$4)) | C10: =IF($A10="","",IF(발령대장_입력!$B7="",발령대장_입력!$A7,발령대장_입력!$A7&CHAR(10)&"("&발령대장_입력!$B7&")")) | D10: =IF($A10="","",발령대장_입력!$C7&IF(발령대장_입력!$D7="","",CHAR(10)&"("&IF(AND(ISNUMBER(발령대장_입력!$D7),LEN(TEXT(발령대장_입력!$D7,"0"))<6),TEXT(발령대장_입력!$D7,"yyyy. m. d."),IF(LEN(SUBSTITUTE(SUBSTITUTE(SUBSTITUTE(TRIM(발령대장_입력!$D7),"-",""),".","")," ",""))=13,TEXT(DATE(IF(OR(MID(SUBSTITUTE(SUBSTITUTE(SUBSTITUTE(TRIM(발령대장_입력!$D7),"-",""),".","")," ",""),7,1)="1",MID(SUBSTITUTE(SUBSTITUTE(SUBSTITUTE(TRIM(발령대장_입력!$D7),"-",""),".","")," ",""),7,1)="2",MID(SUBSTITUTE(SUBSTITUTE(SUBSTITUTE(TRIM(발령대장_입력!$D7),"-",""),".","")," ",""),7,1)="5",MID(SUBSTITUTE(SUBSTITUTE(SUBSTITUTE(TRIM(발령대장_입력!$D7),"-",""),".","")," ",""),7,1)="6"),1900+VALUE(LEFT(SUBSTITUTE(SUBSTITUTE(SUBSTITUTE(TRIM(발령대장_입력!$D7),"-",""),".","")," ",""),2)),IF(OR(MID(SUBSTITUTE(SUBSTITUTE(SUBSTITUTE(TRIM(발령대장_입력!$D7),"-",""),".","")," ",""),7,1)="3",MID(SUBSTITUTE(SUBSTITUTE(SUBSTITUTE(TRIM(발령대장_입력!$D7),"-",""),".","")," ",""),7,1)="4",MID(SUBSTITUTE(SUBSTITUTE(SUBSTITUTE(TRIM(발령대장_입력!$D7),"-",""),".","")," ",""),7,1)="7",MID(SUBSTITUTE(SUBSTITUTE(SUBSTITUTE(TRIM(발령대장_입력!$D7),"-",""),".","")," ",""),7,1)="8"),2000+VALUE(LEFT(SUBSTITUTE(SUBSTITUTE(SUBSTITUTE(TRIM(발령대장_입력!$D7),"-",""),".","")," ",""),2)),1800+VALUE(LEFT(SUBSTITUTE(SUBSTITUTE(SUBSTITUTE(TRIM(발령대장_입력!$D7),"-",""),".","")," ",""),2)))),VALUE(MID(SUBSTITUTE(SUBSTITUTE(SUBSTITUTE(TRIM(발령대장_입력!$D7),"-",""),".","")," ",""),3,2)),VALUE(MID(SUBSTITUTE(SUBSTITUTE(SUBSTITUTE(TRIM(발령대장_입력!$D7),"-",""),".","")," ",""),5,2))),"yyyy. m. d."),IF(LEN(SUBSTITUTE(SUBSTITUTE(SUBSTITUTE(TRIM(발령대장_입력!$D7),"-",""),".","")," ",""))=8,TEXT(DATE(VALUE(LEFT(SUBSTITUTE(SUBSTITUTE(SUBSTITUTE(TRIM(발령대장_입력!$D7),"-",""),".","")," ",""),4)),VALUE(MID(SUBSTITUTE(SUBSTITUTE(SUBSTITUTE(TRIM(발령대장_입력!$D7),"-",""),".","")," ",""),5,2)),VALUE(RIGHT(SUBSTITUTE(SUBSTITUTE(SUBSTITUTE(TRIM(발령대장_입력!$D7),"-",""),".","")," ",""),2))),"yyyy. m. d."),IF(LEN(SUBSTITUTE(SUBSTITUTE(SUBSTITUTE(TRIM(발령대장_입력!$D7),"-",""),".","")," ",""))=6,TEXT(DATE(IF(VALUE(LEFT(SUBSTITUTE(SUBSTITUTE(SUBSTITUTE(TRIM(발령대장_입력!$D7),"-",""),".","")," ",""),2))<=MOD(YEAR(TODAY()),100),2000+VALUE(LEFT(SUBSTITUTE(SUBSTITUTE(SUBSTITUTE(TRIM(발령대장_입력!$D7),"-",""),".","")," ",""),2)),1900+VALUE(LEFT(SUBSTITUTE(SUBSTITUTE(SUBSTITUTE(TRIM(발령대장_입력!$D7),"-",""),".","")," ",""),2))),VALUE(MID(SUBSTITUTE(SUBSTITUTE(SUBSTITUTE(TRIM(발령대장_입력!$D7),"-",""),".","")," ",""),3,2)),VALUE(RIGHT(SUBSTITUTE(SUBSTITUTE(SUBSTITUTE(TRIM(발령대장_입력!$D7),"-",""),".","")," ",""),2))),"yyyy. m. d."),IFERROR(TEXT(DATEVALUE(발령대장_입력!$D7),"yyyy. m. d."),발령대장_입력!$D7)))))&")")) | E10: =IF($A10="","",발령대장_입력!$A7&"에 임함"&IF(발령대장_입력!$B7="","",CHAR(10)&"("&발령대장_입력!$B7&")")&IF(발령대장_입력!$G7="","",CHAR(10)&"("&SUBSTITUTE(SUBSTITUTE(발령대장_입력!$G7,"호봉","")," ","")&")호봉을 급함")&CHAR(10)&"임용기간: "&YEAR(발령대장_입력!$E7)&"."&MONTH(발령대장_입력!$E7)&"."&DAY(발령대장_입력!$E7)&"."&" ~ "&YEAR(발령대장_입력!$F7)&"."&MONTH(발령대장_입력!$F7)&"."&DAY(발령대장_입력!$F7)&".") | F10: =IF($A10="","",IF(기본설정·안내!$B$5="","",기본설정·안내!$B$5)) | G10: =IF($A10="","",IF(기본설정·안내!$B$6="","",기본설정·안내!$B$6)) | H10: =IF($A10="","",IF(기본설정·안내!$B$7="","",기본설정·안내!$B$7)) | I10: =IF($A10="","",IF(기본설정·안내!$B$8="","",기본설정·안내!$B$8)) | J10: =IF($A10="","",IF(기본설정·안내!$B$9="","",기본설정·안내!$B$9))
A11: =IF(발령대장_입력!$C8="","",발령대장_입력!$E8) | B11: =IF($A11="","",IF(기본설정·안내!$B$4="","",기본설정·안내!$B$4)) | C11: =IF($A11="","",IF(발령대장_입력!$B8="",발령대장_입력!$A8,발령대장_입력!$A8&CHAR(10)&"("&발령대장_입력!$B8&")")) | D11: =IF($A11="","",발령대장_입력!$C8&IF(발령대장_입력!$D8="","",CHAR(10)&"("&IF(AND(ISNUMBER(발령대장_입력!$D8),LEN(TEXT(발령대장_입력!$D8,"0"))<6),TEXT(발령대장_입력!$D8,"yyyy. m. d."),IF(LEN(SUBSTITUTE(SUBSTITUTE(SUBSTITUTE(TRIM(발령대장_입력!$D8),"-",""),".","")," ",""))=13,TEXT(DATE(IF(OR(MID(SUBSTITUTE(SUBSTITUTE(SUBSTITUTE(TRIM(발령대장_입력!$D8),"-",""),".","")," ",""),7,1)="1",MID(SUBSTITUTE(SUBSTITUTE(SUBSTITUTE(TRIM(발령대장_입력!$D8),"-",""),".","")," ",""),7,1)="2",MID(SUBSTITUTE(SUBSTITUTE(SUBSTITUTE(TRIM(발령대장_입력!$D8),"-",""),".","")," ",""),7,1)="5",MID(SUBSTITUTE(SUBSTITUTE(SUBSTITUTE(TRIM(발령대장_입력!$D8),"-",""),".","")," ",""),7,1)="6"),1900+VALUE(LEFT(SUBSTITUTE(SUBSTITUTE(SUBSTITUTE(TRIM(발령대장_입력!$D8),"-",""),".","")," ",""),2)),IF(OR(MID(SUBSTITUTE(SUBSTITUTE(SUBSTITUTE(TRIM(발령대장_입력!$D8),"-",""),".","")," ",""),7,1)="3",MID(SUBSTITUTE(SUBSTITUTE(SUBSTITUTE(TRIM(발령대장_입력!$D8),"-",""),".","")," ",""),7,1)="4",MID(SUBSTITUTE(SUBSTITUTE(SUBSTITUTE(TRIM(발령대장_입력!$D8),"-",""),".","")," ",""),7,1)="7",MID(SUBSTITUTE(SUBSTITUTE(SUBSTITUTE(TRIM(발령대장_입력!$D8),"-",""),".","")," ",""),7,1)="8"),2000+VALUE(LEFT(SUBSTITUTE(SUBSTITUTE(SUBSTITUTE(TRIM(발령대장_입력!$D8),"-",""),".","")," ",""),2)),1800+VALUE(LEFT(SUBSTITUTE(SUBSTITUTE(SUBSTITUTE(TRIM(발령대장_입력!$D8),"-",""),".","")," ",""),2)))),VALUE(MID(SUBSTITUTE(SUBSTITUTE(SUBSTITUTE(TRIM(발령대장_입력!$D8),"-",""),".","")," ",""),3,2)),VALUE(MID(SUBSTITUTE(SUBSTITUTE(SUBSTITUTE(TRIM(발령대장_입력!$D8),"-",""),".","")," ",""),5,2))),"yyyy. m. d."),IF(LEN(SUBSTITUTE(SUBSTITUTE(SUBSTITUTE(TRIM(발령대장_입력!$D8),"-",""),".","")," ",""))=8,TEXT(DATE(VALUE(LEFT(SUBSTITUTE(SUBSTITUTE(SUBSTITUTE(TRIM(발령대장_입력!$D8),"-",""),".","")," ",""),4)),VALUE(MID(SUBSTITUTE(SUBSTITUTE(SUBSTITUTE(TRIM(발령대장_입력!$D8),"-",""),".","")," ",""),5,2)),VALUE(RIGHT(SUBSTITUTE(SUBSTITUTE(SUBSTITUTE(TRIM(발령대장_입력!$D8),"-",""),".","")," ",""),2))),"yyyy. m. d."),IF(LEN(SUBSTITUTE(SUBSTITUTE(SUBSTITUTE(TRIM(발령대장_입력!$D8),"-",""),".","")," ",""))=6,TEXT(DATE(IF(VALUE(LEFT(SUBSTITUTE(SUBSTITUTE(SUBSTITUTE(TRIM(발령대장_입력!$D8),"-",""),".","")," ",""),2))<=MOD(YEAR(TODAY()),100),2000+VALUE(LEFT(SUBSTITUTE(SUBSTITUTE(SUBSTITUTE(TRIM(발령대장_입력!$D8),"-",""),".","")," ",""),2)),1900+VALUE(LEFT(SUBSTITUTE(SUBSTITUTE(SUBSTITUTE(TRIM(발령대장_입력!$D8),"-",""),".","")," ",""),2))),VALUE(MID(SUBSTITUTE(SUBSTITUTE(SUBSTITUTE(TRIM(발령대장_입력!$D8),"-",""),".","")," ",""),3,2)),VALUE(RIGHT(SUBSTITUTE(SUBSTITUTE(SUBSTITUTE(TRIM(발령대장_입력!$D8),"-",""),".","")," ",""),2))),"yyyy. m. d."),IFERROR(TEXT(DATEVALUE(발령대장_입력!$D8),"yyyy. m. d."),발령대장_입력!$D8)))))&")")) | E11: =IF($A11="","",발령대장_입력!$A8&"에 임함"&IF(발령대장_입력!$B8="","",CHAR(10)&"("&발령대장_입력!$B8&")")&IF(발령대장_입력!$G8="","",CHAR(10)&"("&SUBSTITUTE(SUBSTITUTE(발령대장_입력!$G8,"호봉","")," ","")&")호봉을 급함")&CHAR(10)&"임용기간: "&YEAR(발령대장_입력!$E8)&"."&MONTH(발령대장_입력!$E8)&"."&DAY(발령대장_입력!$E8)&"."&" ~ "&YEAR(발령대장_입력!$F8)&"."&MONTH(발령대장_입력!$F8)&"."&DAY(발령대장_입력!$F8)&".") | F11: =IF($A11="","",IF(기본설정·안내!$B$5="","",기본설정·안내!$B$5)) | G11: =IF($A11="","",IF(기본설정·안내!$B$6="","",기본설정·안내!$B$6)) | H11: =IF($A11="","",IF(기본설정·안내!$B$7="","",기본설정·안내!$B$7)) | I11: =IF($A11="","",IF(기본설정·안내!$B$8="","",기본설정·안내!$B$8)) | J11: =IF($A11="","",IF(기본설정·안내!$B$9="","",기본설정·안내!$B$9))
A12: =IF(발령대장_입력!$C9="","",발령대장_입력!$E9) | B12: =IF($A12="","",IF(기본설정·안내!$B$4="","",기본설정·안내!$B$4)) | C12: =IF($A12="","",IF(발령대장_입력!$B9="",발령대장_입력!$A9,발령대장_입력!$A9&CHAR(10)&"("&발령대장_입력!$B9&")")) | D12: =IF($A12="","",발령대장_입력!$C9&IF(발령대장_입력!$D9="","",CHAR(10)&"("&IF(AND(ISNUMBER(발령대장_입력!$D9),LEN(TEXT(발령대장_입력!$D9,"0"))<6),TEXT(발령대장_입력!$D9,"yyyy. m. d."),IF(LEN(SUBSTITUTE(SUBSTITUTE(SUBSTITUTE(TRIM(발령대장_입력!$D9),"-",""),".","")," ",""))=13,TEXT(DATE(IF(OR(MID(SUBSTITUTE(SUBSTITUTE(SUBSTITUTE(TRIM(발령대장_입력!$D9),"-",""),".","")," ",""),7,1)="1",MID(SUBSTITUTE(SUBSTITUTE(SUBSTITUTE(TRIM(발령대장_입력!$D9),"-",""),".","")," ",""),7,1)="2",MID(SUBSTITUTE(SUBSTITUTE(SUBSTITUTE(TRIM(발령대장_입력!$D9),"-",""),".","")," ",""),7,1)="5",MID(SUBSTITUTE(SUBSTITUTE(SUBSTITUTE(TRIM(발령대장_입력!$D9),"-",""),".","")," ",""),7,1)="6"),1900+VALUE(LEFT(SUBSTITUTE(SUBSTITUTE(SUBSTITUTE(TRIM(발령대장_입력!$D9),"-",""),".","")," ",""),2)),IF(OR(MID(SUBSTITUTE(SUBSTITUTE(SUBSTITUTE(TRIM(발령대장_입력!$D9),"-",""),".","")," ",""),7,1)="3",MID(SUBSTITUTE(SUBSTITUTE(SUBSTITUTE(TRIM(발령대장_입력!$D9),"-",""),".","")," ",""),7,1)="4",MID(SUBSTITUTE(SUBSTITUTE(SUBSTITUTE(TRIM(발령대장_입력!$D9),"-",""),".","")," ",""),7,1)="7",MID(SUBSTITUTE(SUBSTITUTE(SUBSTITUTE(TRIM(발령대장_입력!$D9),"-",""),".","")," ",""),7,1)="8"),2000+VALUE(LEFT(SUBSTITUTE(SUBSTITUTE(SUBSTITUTE(TRIM(발령대장_입력!$D9),"-",""),".","")," ",""),2)),1800+VALUE(LEFT(SUBSTITUTE(SUBSTITUTE(SUBSTITUTE(TRIM(발령대장_입력!$D9),"-",""),".","")," ",""),2)))),VALUE(MID(SUBSTITUTE(SUBSTITUTE(SUBSTITUTE(TRIM(발령대장_입력!$D9),"-",""),".","")," ",""),3,2)),VALUE(MID(SUBSTITUTE(SUBSTITUTE(SUBSTITUTE(TRIM(발령대장_입력!$D9),"-",""),".","")," ",""),5,2))),"yyyy. m. d."),IF(LEN(SUBSTITUTE(SUBSTITUTE(SUBSTITUTE(TRIM(발령대장_입력!$D9),"-",""),".","")," ",""))=8,TEXT(DATE(VALUE(LEFT(SUBSTITUTE(SUBSTITUTE(SUBSTITUTE(TRIM(발령대장_입력!$D9),"-",""),".","")," ",""),4)),VALUE(MID(SUBSTITUTE(SUBSTITUTE(SUBSTITUTE(TRIM(발령대장_입력!$D9),"-",""),".","")," ",""),5,2)),VALUE(RIGHT(SUBSTITUTE(SUBSTITUTE(SUBSTITUTE(TRIM(발령대장_입력!$D9),"-",""),".","")," ",""),2))),"yyyy. m. d."),IF(LEN(SUBSTITUTE(SUBSTITUTE(SUBSTITUTE(TRIM(발령대장_입력!$D9),"-",""),".","")," ",""))=6,TEXT(DATE(IF(VALUE(LEFT(SUBSTITUTE(SUBSTITUTE(SUBSTITUTE(TRIM(발령대장_입력!$D9),"-",""),".","")," ",""),2))<=MOD(YEAR(TODAY()),100),2000+VALUE(LEFT(SUBSTITUTE(SUBSTITUTE(SUBSTITUTE(TRIM(발령대장_입력!$D9),"-",""),".","")," ",""),2)),1900+VALUE(LEFT(SUBSTITUTE(SUBSTITUTE(SUBSTITUTE(TRIM(발령대장_입력!$D9),"-",""),".","")," ",""),2))),VALUE(MID(SUBSTITUTE(SUBSTITUTE(SUBSTITUTE(TRIM(발령대장_입력!$D9),"-",""),".","")," ",""),3,2)),VALUE(RIGHT(SUBSTITUTE(SUBSTITUTE(SUBSTITUTE(TRIM(발령대장_입력!$D9),"-",""),".","")," ",""),2))),"yyyy. m. d."),IFERROR(TEXT(DATEVALUE(발령대장_입력!$D9),"yyyy. m. d."),발령대장_입력!$D9)))))&")")) | E12: =IF($A12="","",발령대장_입력!$A9&"에 임함"&IF(발령대장_입력!$B9="","",CHAR(10)&"("&발령대장_입력!$B9&")")&IF(발령대장_입력!$G9="","",CHAR(10)&"("&SUBSTITUTE(SUBSTITUTE(발령대장_입력!$G9,"호봉","")," ","")&")호봉을 급함")&CHAR(10)&"임용기간: "&YEAR(발령대장_입력!$E9)&"."&MONTH(발령대장_입력!$E9)&"."&DAY(발령대장_입력!$E9)&"."&" ~ "&YEAR(발령대장_입력!$F9)&"."&MONTH(발령대장_입력!$F9)&"."&DAY(발령대장_입력!$F9)&".") | F12: =IF($A12="","",IF(기본설정·안내!$B$5="","",기본설정·안내!$B$5)) | G12: =IF($A12="","",IF(기본설정·안내!$B$6="","",기본설정·안내!$B$6)) | H12: =IF($A12="","",IF(기본설정·안내!$B$7="","",기본설정·안내!$B$7)) | I12: =IF($A12="","",IF(기본설정·안내!$B$8="","",기본설정·안내!$B$8)) | J12: =IF($A12="","",IF(기본설정·안내!$B$9="","",기본설정·안내!$B$9))
A13: =IF(발령대장_입력!$C10="","",발령대장_입력!$E10) | B13: =IF($A13="","",IF(기본설정·안내!$B$4="","",기본설정·안내!$B$4)) | C13: =IF($A13="","",IF(발령대장_입력!$B10="",발령대장_입력!$A10,발령대장_입력!$A10&CHAR(10)&"("&발령대장_입력!$B10&")")) | D13: =IF($A13="","",발령대장_입력!$C10&IF(발령대장_입력!$D10="","",CHAR(10)&"("&IF(AND(ISNUMBER(발령대장_입력!$D10),LEN(TEXT(발령대장_입력!$D10,"0"))<6),TEXT(발령대장_입력!$D10,"yyyy. m. d."),IF(LEN(SUBSTITUTE(SUBSTITUTE(SUBSTITUTE(TRIM(발령대장_입력!$D10),"-",""),".","")," ",""))=13,TEXT(DATE(IF(OR(MID(SUBSTITUTE(SUBSTITUTE(SUBSTITUTE(TRIM(발령대장_입력!$D10),"-",""),".","")," ",""),7,1)="1",MID(SUBSTITUTE(SUBSTITUTE(SUBSTITUTE(TRIM(발령대장_입력!$D10),"-",""),".","")," ",""),7,1)="2",MID(SUBSTITUTE(SUBSTITUTE(SUBSTITUTE(TRIM(발령대장_입력!$D10),"-",""),".","")," ",""),7,1)="5",MID(SUBSTITUTE(SUBSTITUTE(SUBSTITUTE(TRIM(발령대장_입력!$D10),"-",""),".","")," ",""),7,1)="6"),1900+VALUE(LEFT(SUBSTITUTE(SUBSTITUTE(SUBSTITUTE(TRIM(발령대장_입력!$D10),"-",""),".","")," ",""),2)),IF(OR(MID(SUBSTITUTE(SUBSTITUTE(SUBSTITUTE(TRIM(발령대장_입력!$D10),"-",""),".","")," ",""),7,1)="3",MID(SUBSTITUTE(SUBSTITUTE(SUBSTITUTE(TRIM(발령대장_입력!$D10),"-",""),".","")," ",""),7,1)="4",MID(SUBSTITUTE(SUBSTITUTE(SUBSTITUTE(TRIM(발령대장_입력!$D10),"-",""),".","")," ",""),7,1)="7",MID(SUBSTITUTE(SUBSTITUTE(SUBSTITUTE(TRIM(발령대장_입력!$D10),"-",""),".","")," ",""),7,1)="8"),2000+VALUE(LEFT(SUBSTITUTE(SUBSTITUTE(SUBSTITUTE(TRIM(발령대장_입력!$D10),"-",""),".","")," ",""),2)),1800+VALUE(LEFT(SUBSTITUTE(SUBSTITUTE(SUBSTITUTE(TRIM(발령대장_입력!$D10),"-",""),".","")," ",""),2)))),VALUE(MID(SUBSTITUTE(SUBSTITUTE(SUBSTITUTE(TRIM(발령대장_입력!$D10),"-",""),".","")," ",""),3,2)),VALUE(MID(SUBSTITUTE(SUBSTITUTE(SUBSTITUTE(TRIM(발령대장_입력!$D10),"-",""),".","")," ",""),5,2))),"yyyy. m. d."),IF(LEN(SUBSTITUTE(SUBSTITUTE(SUBSTITUTE(TRIM(발령대장_입력!$D10),"-",""),".","")," ",""))=8,TEXT(DATE(VALUE(LEFT(SUBSTITUTE(SUBSTITUTE(SUBSTITUTE(TRIM(발령대장_입력!$D10),"-",""),".","")," ",""),4)),VALUE(MID(SUBSTITUTE(SUBSTITUTE(SUBSTITUTE(TRIM(발령대장_입력!$D10),"-",""),".","")," ",""),5,2)),VALUE(RIGHT(SUBSTITUTE(SUBSTITUTE(SUBSTITUTE(TRIM(발령대장_입력!$D10),"-",""),".","")," ",""),2))),"yyyy. m. d."),IF(LEN(SUBSTITUTE(SUBSTITUTE(SUBSTITUTE(TRIM(발령대장_입력!$D10),"-",""),".","")," ",""))=6,TEXT(DATE(IF(VALUE(LEFT(SUBSTITUTE(SUBSTITUTE(SUBSTITUTE(TRIM(발령대장_입력!$D10),"-",""),".","")," ",""),2))<=MOD(YEAR(TODAY()),100),2000+VALUE(LEFT(SUBSTITUTE(SUBSTITUTE(SUBSTITUTE(TRIM(발령대장_입력!$D10),"-",""),".","")," ",""),2)),1900+VALUE(LEFT(SUBSTITUTE(SUBSTITUTE(SUBSTITUTE(TRIM(발령대장_입력!$D10),"-",""),".","")," ",""),2))),VALUE(MID(SUBSTITUTE(SUBSTITUTE(SUBSTITUTE(TRIM(발령대장_입력!$D10),"-",""),".","")," ",""),3,2)),VALUE(RIGHT(SUBSTITUTE(SUBSTITUTE(SUBSTITUTE(TRIM(발령대장_입력!$D10),"-",""),".","")," ",""),2))),"yyyy. m. d."),IFERROR(TEXT(DATEVALUE(발령대장_입력!$D10),"yyyy. m. d."),발령대장_입력!$D10)))))&")")) | E13: =IF($A13="","",발령대장_입력!$A10&"에 임함"&IF(발령대장_입력!$B10="","",CHAR(10)&"("&발령대장_입력!$B10&")")&IF(발령대장_입력!$G10="","",CHAR(10)&"("&SUBSTITUTE(SUBSTITUTE(발령대장_입력!$G10,"호봉","")," ","")&")호봉을 급함")&CHAR(10)&"임용기간: "&YEAR(발령대장_입력!$E10)&"."&MONTH(발령대장_입력!$E10)&"."&DAY(발령대장_입력!$E10)&"."&" ~ "&YEAR(발령대장_입력!$F10)&"."&MONTH(발령대장_입력!$F10)&"."&DAY(발령대장_입력!$F10)&".") | F13: =IF($A13="","",IF(기본설정·안내!$B$5="","",기본설정·안내!$B$5)) | G13: =IF($A13="","",IF(기본설정·안내!$B$6="","",기본설정·안내!$B$6)) | H13: =IF($A13="","",IF(기본설정·안내!$B$7="","",기본설정·안내!$B$7)) | I13: =IF($A13="","",IF(기본설정·안내!$B$8="","",기본설정·안내!$B$8)) | J13: =IF($A13="","",IF(기본설정·안내!$B$9="","",기본설정·안내!$B$9))
A14: =IF(발령대장_입력!$C11="","",발령대장_입력!$E11) | B14: =IF($A14="","",IF(기본설정·안내!$B$4="","",기본설정·안내!$B$4)) | C14: =IF($A14="","",IF(발령대장_입력!$B11="",발령대장_입력!$A11,발령대장_입력!$A11&CHAR(10)&"("&발령대장_입력!$B11&")")) | D14: =IF($A14="","",발령대장_입력!$C11&IF(발령대장_입력!$D11="","",CHAR(10)&"("&IF(AND(ISNUMBER(발령대장_입력!$D11),LEN(TEXT(발령대장_입력!$D11,"0"))<6),TEXT(발령대장_입력!$D11,"yyyy. m. d."),IF(LEN(SUBSTITUTE(SUBSTITUTE(SUBSTITUTE(TRIM(발령대장_입력!$D11),"-",""),".","")," ",""))=13,TEXT(DATE(IF(OR(MID(SUBSTITUTE(SUBSTITUTE(SUBSTITUTE(TRIM(발령대장_입력!$D11),"-",""),".","")," ",""),7,1)="1",MID(SUBSTITUTE(SUBSTITUTE(SUBSTITUTE(TRIM(발령대장_입력!$D11),"-",""),".","")," ",""),7,1)="2",MID(SUBSTITUTE(SUBSTITUTE(SUBSTITUTE(TRIM(발령대장_입력!$D11),"-",""),".","")," ",""),7,1)="5",MID(SUBSTITUTE(SUBSTITUTE(SUBSTITUTE(TRIM(발령대장_입력!$D11),"-",""),".","")," ",""),7,1)="6"),1900+VALUE(LEFT(SUBSTITUTE(SUBSTITUTE(SUBSTITUTE(TRIM(발령대장_입력!$D11),"-",""),".","")," ",""),2)),IF(OR(MID(SUBSTITUTE(SUBSTITUTE(SUBSTITUTE(TRIM(발령대장_입력!$D11),"-",""),".","")," ",""),7,1)="3",MID(SUBSTITUTE(SUBSTITUTE(SUBSTITUTE(TRIM(발령대장_입력!$D11),"-",""),".","")," ",""),7,1)="4",MID(SUBSTITUTE(SUBSTITUTE(SUBSTITUTE(TRIM(발령대장_입력!$D11),"-",""),".","")," ",""),7,1)="7",MID(SUBSTITUTE(SUBSTITUTE(SUBSTITUTE(TRIM(발령대장_입력!$D11),"-",""),".","")," ",""),7,1)="8"),2000+VALUE(LEFT(SUBSTITUTE(SUBSTITUTE(SUBSTITUTE(TRIM(발령대장_입력!$D11),"-",""),".","")," ",""),2)),1800+VALUE(LEFT(SUBSTITUTE(SUBSTITUTE(SUBSTITUTE(TRIM(발령대장_입력!$D11),"-",""),".","")," ",""),2)))),VALUE(MID(SUBSTITUTE(SUBSTITUTE(SUBSTITUTE(TRIM(발령대장_입력!$D11),"-",""),".","")," ",""),3,2)),VALUE(MID(SUBSTITUTE(SUBSTITUTE(SUBSTITUTE(TRIM(발령대장_입력!$D11),"-",""),".","")," ",""),5,2))),"yyyy. m. d."),IF(LEN(SUBSTITUTE(SUBSTITUTE(SUBSTITUTE(TRIM(발령대장_입력!$D11),"-",""),".","")," ",""))=8,TEXT(DATE(VALUE(LEFT(SUBSTITUTE(SUBSTITUTE(SUBSTITUTE(TRIM(발령대장_입력!$D11),"-",""),".","")," ",""),4)),VALUE(MID(SUBSTITUTE(SUBSTITUTE(SUBSTITUTE(TRIM(발령대장_입력!$D11),"-",""),".","")," ",""),5,2)),VALUE(RIGHT(SUBSTITUTE(SUBSTITUTE(SUBSTITUTE(TRIM(발령대장_입력!$D11),"-",""),".","")," ",""),2))),"yyyy. m. d."),IF(LEN(SUBSTITUTE(SUBSTITUTE(SUBSTITUTE(TRIM(발령대장_입력!$D11),"-",""),".","")," ",""))=6,TEXT(DATE(IF(VALUE(LEFT(SUBSTITUTE(SUBSTITUTE(SUBSTITUTE(TRIM(발령대장_입력!$D11),"-",""),".","")," ",""),2))<=MOD(YEAR(TODAY()),100),2000+VALUE(LEFT(SUBSTITUTE(SUBSTITUTE(SUBSTITUTE(TRIM(발령대장_입력!$D11),"-",""),".","")," ",""),2)),1900+VALUE(LEFT(SUBSTITUTE(SUBSTITUTE(SUBSTITUTE(TRIM(발령대장_입력!$D11),"-",""),".","")," ",""),2))),VALUE(MID(SUBSTITUTE(SUBSTITUTE(SUBSTITUTE(TRIM(발령대장_입력!$D11),"-",""),".","")," ",""),3,2)),VALUE(RIGHT(SUBSTITUTE(SUBSTITUTE(SUBSTITUTE(TRIM(발령대장_입력!$D11),"-",""),".","")," ",""),2))),"yyyy. m. d."),IFERROR(TEXT(DATEVALUE(발령대장_입력!$D11),"yyyy. m. d."),발령대장_입력!$D11)))))&")")) | E14: =IF($A14="","",발령대장_입력!$A11&"에 임함"&IF(발령대장_입력!$B11="","",CHAR(10)&"("&발령대장_입력!$B11&")")&IF(발령대장_입력!$G11="","",CHAR(10)&"("&SUBSTITUTE(SUBSTITUTE(발령대장_입력!$G11,"호봉","")," ","")&")호봉을 급함")&CHAR(10)&"임용기간: "&YEAR(발령대장_입력!$E11)&"."&MONTH(발령대장_입력!$E11)&"."&DAY(발령대장_입력!$E11)&"."&" ~ "&YEAR(발령대장_입력!$F11)&"."&MONTH(발령대장_입력!$F11)&"."&DAY(발령대장_입력!$F11)&".") | F14: =IF($A14="","",IF(기본설정·안내!$B$5="","",기본설정·안내!$B$5)) | G14: =IF($A14="","",IF(기본설정·안내!$B$6="","",기본설정·안내!$B$6)) | H14: =IF($A14="","",IF(기본설정·안내!$B$7="","",기본설정·안내!$B$7)) | I14: =IF($A14="","",IF(기본설정·안내!$B$8="","",기본설정·안내!$B$8)) | J14: =IF($A14="","",IF(기본설정·안내!$B$9="","",기본설정·안내!$B$9))
A15: =IF(발령대장_입력!$C12="","",발령대장_입력!$E12) | B15: =IF($A15="","",IF(기본설정·안내!$B$4="","",기본설정·안내!$B$4)) | C15: =IF($A15="","",IF(발령대장_입력!$B12="",발령대장_입력!$A12,발령대장_입력!$A12&CHAR(10)&"("&발령대장_입력!$B12&")")) | D15: =IF($A15="","",발령대장_입력!$C12&IF(발령대장_입력!$D12="","",CHAR(10)&"("&IF(AND(ISNUMBER(발령대장_입력!$D12),LEN(TEXT(발령대장_입력!$D12,"0"))<6),TEXT(발령대장_입력!$D12,"yyyy. m. d."),IF(LEN(SUBSTITUTE(SUBSTITUTE(SUBSTITUTE(TRIM(발령대장_입력!$D12),"-",""),".","")," ",""))=13,TEXT(DATE(IF(OR(MID(SUBSTITUTE(SUBSTITUTE(SUBSTITUTE(TRIM(발령대장_입력!$D12),"-",""),".","")," ",""),7,1)="1",MID(SUBSTITUTE(SUBSTITUTE(SUBSTITUTE(TRIM(발령대장_입력!$D12),"-",""),".","")," ",""),7,1)="2",MID(SUBSTITUTE(SUBSTITUTE(SUBSTITUTE(TRIM(발령대장_입력!$D12),"-",""),".","")," ",""),7,1)="5",MID(SUBSTITUTE(SUBSTITUTE(SUBSTITUTE(TRIM(발령대장_입력!$D12),"-",""),".","")," ",""),7,1)="6"),1900+VALUE(LEFT(SUBSTITUTE(SUBSTITUTE(SUBSTITUTE(TRIM(발령대장_입력!$D12),"-",""),".","")," ",""),2)),IF(OR(MID(SUBSTITUTE(SUBSTITUTE(SUBSTITUTE(TRIM(발령대장_입력!$D12),"-",""),".","")," ",""),7,1)="3",MID(SUBSTITUTE(SUBSTITUTE(SUBSTITUTE(TRIM(발령대장_입력!$D12),"-",""),".","")," ",""),7,1)="4",MID(SUBSTITUTE(SUBSTITUTE(SUBSTITUTE(TRIM(발령대장_입력!$D12),"-",""),".","")," ",""),7,1)="7",MID(SUBSTITUTE(SUBSTITUTE(SUBSTITUTE(TRIM(발령대장_입력!$D12),"-",""),".","")," ",""),7,1)="8"),2000+VALUE(LEFT(SUBSTITUTE(SUBSTITUTE(SUBSTITUTE(TRIM(발령대장_입력!$D12),"-",""),".","")," ",""),2)),1800+VALUE(LEFT(SUBSTITUTE(SUBSTITUTE(SUBSTITUTE(TRIM(발령대장_입력!$D12),"-",""),".","")," ",""),2)))),VALUE(MID(SUBSTITUTE(SUBSTITUTE(SUBSTITUTE(TRIM(발령대장_입력!$D12),"-",""),".","")," ",""),3,2)),VALUE(MID(SUBSTITUTE(SUBSTITUTE(SUBSTITUTE(TRIM(발령대장_입력!$D12),"-",""),".","")," ",""),5,2))),"yyyy. m. d."),IF(LEN(SUBSTITUTE(SUBSTITUTE(SUBSTITUTE(TRIM(발령대장_입력!$D12),"-",""),".","")," ",""))=8,TEXT(DATE(VALUE(LEFT(SUBSTITUTE(SUBSTITUTE(SUBSTITUTE(TRIM(발령대장_입력!$D12),"-",""),".","")," ",""),4)),VALUE(MID(SUBSTITUTE(SUBSTITUTE(SUBSTITUTE(TRIM(발령대장_입력!$D12),"-",""),".","")," ",""),5,2)),VALUE(RIGHT(SUBSTITUTE(SUBSTITUTE(SUBSTITUTE(TRIM(발령대장_입력!$D12),"-",""),".","")," ",""),2))),"yyyy. m. d."),IF(LEN(SUBSTITUTE(SUBSTITUTE(SUBSTITUTE(TRIM(발령대장_입력!$D12),"-",""),".","")," ",""))=6,TEXT(DATE(IF(VALUE(LEFT(SUBSTITUTE(SUBSTITUTE(SUBSTITUTE(TRIM(발령대장_입력!$D12),"-",""),".","")," ",""),2))<=MOD(YEAR(TODAY()),100),2000+VALUE(LEFT(SUBSTITUTE(SUBSTITUTE(SUBSTITUTE(TRIM(발령대장_입력!$D12),"-",""),".","")," ",""),2)),1900+VALUE(LEFT(SUBSTITUTE(SUBSTITUTE(SUBSTITUTE(TRIM(발령대장_입력!$D12),"-",""),".","")," ",""),2))),VALUE(MID(SUBSTITUTE(SUBSTITUTE(SUBSTITUTE(TRIM(발령대장_입력!$D12),"-",""),".","")," ",""),3,2)),VALUE(RIGHT(SUBSTITUTE(SUBSTITUTE(SUBSTITUTE(TRIM(발령대장_입력!$D12),"-",""),".","")," ",""),2))),"yyyy. m. d."),IFERROR(TEXT(DATEVALUE(발령대장_입력!$D12),"yyyy. m. d."),발령대장_입력!$D12)))))&")")) | E15: =IF($A15="","",발령대장_입력!$A12&"에 임함"&IF(발령대장_입력!$B12="","",CHAR(10)&"("&발령대장_입력!$B12&")")&IF(발령대장_입력!$G12="","",CHAR(10)&"("&SUBSTITUTE(SUBSTITUTE(발령대장_입력!$G12,"호봉","")," ","")&")호봉을 급함")&CHAR(10)&"임용기간: "&YEAR(발령대장_입력!$E12)&"."&MONTH(발령대장_입력!$E12)&"."&DAY(발령대장_입력!$E12)&"."&" ~ "&YEAR(발령대장_입력!$F12)&"."&MONTH(발령대장_입력!$F12)&"."&DAY(발령대장_입력!$F12)&".") | F15: =IF($A15="","",IF(기본설정·안내!$B$5="","",기본설정·안내!$B$5)) | G15: =IF($A15="","",IF(기본설정·안내!$B$6="","",기본설정·안내!$B$6)) | H15: =IF($A15="","",IF(기본설정·안내!$B$7="","",기본설정·안내!$B$7)) | I15: =IF($A15="","",IF(기본설정·안내!$B$8="","",기본설정·안내!$B$8)) | J15: =IF($A15="","",IF(기본설정·안내!$B$9="","",기본설정·안내!$B$9))
A16: =IF(발령대장_입력!$C13="","",발령대장_입력!$E13) | B16: =IF($A16="","",IF(기본설정·안내!$B$4="","",기본설정·안내!$B$4)) | C16: =IF($A16="","",IF(발령대장_입력!$B13="",발령대장_입력!$A13,발령대장_입력!$A13&CHAR(10)&"("&발령대장_입력!$B13&")")) | D16: =IF($A16="","",발령대장_입력!$C13&IF(발령대장_입력!$D13="","",CHAR(10)&"("&IF(AND(ISNUMBER(발령대장_입력!$D13),LEN(TEXT(발령대장_입력!$D13,"0"))<6),TEXT(발령대장_입력!$D13,"yyyy. m. d."),IF(LEN(SUBSTITUTE(SUBSTITUTE(SUBSTITUTE(TRIM(발령대장_입력!$D13),"-",""),".","")," ",""))=13,TEXT(DATE(IF(OR(MID(SUBSTITUTE(SUBSTITUTE(SUBSTITUTE(TRIM(발령대장_입력!$D13),"-",""),".","")," ",""),7,1)="1",MID(SUBSTITUTE(SUBSTITUTE(SUBSTITUTE(TRIM(발령대장_입력!$D13),"-",""),".","")," ",""),7,1)="2",MID(SUBSTITUTE(SUBSTITUTE(SUBSTITUTE(TRIM(발령대장_입력!$D13),"-",""),".","")," ",""),7,1)="5",MID(SUBSTITUTE(SUBSTITUTE(SUBSTITUTE(TRIM(발령대장_입력!$D13),"-",""),".","")," ",""),7,1)="6"),1900+VALUE(LEFT(SUBSTITUTE(SUBSTITUTE(SUBSTITUTE(TRIM(발령대장_입력!$D13),"-",""),".","")," ",""),2)),IF(OR(MID(SUBSTITUTE(SUBSTITUTE(SUBSTITUTE(TRIM(발령대장_입력!$D13),"-",""),".","")," ",""),7,1)="3",MID(SUBSTITUTE(SUBSTITUTE(SUBSTITUTE(TRIM(발령대장_입력!$D13),"-",""),".","")," ",""),7,1)="4",MID(SUBSTITUTE(SUBSTITUTE(SUBSTITUTE(TRIM(발령대장_입력!$D13),"-",""),".","")," ",""),7,1)="7",MID(SUBSTITUTE(SUBSTITUTE(SUBSTITUTE(TRIM(발령대장_입력!$D13),"-",""),".","")," ",""),7,1)="8"),2000+VALUE(LEFT(SUBSTITUTE(SUBSTITUTE(SUBSTITUTE(TRIM(발령대장_입력!$D13),"-",""),".","")," ",""),2)),1800+VALUE(LEFT(SUBSTITUTE(SUBSTITUTE(SUBSTITUTE(TRIM(발령대장_입력!$D13),"-",""),".","")," ",""),2)))),VALUE(MID(SUBSTITUTE(SUBSTITUTE(SUBSTITUTE(TRIM(발령대장_입력!$D13),"-",""),".","")," ",""),3,2)),VALUE(MID(SUBSTITUTE(SUBSTITUTE(SUBSTITUTE(TRIM(발령대장_입력!$D13),"-",""),".","")," ",""),5,2))),"yyyy. m. d."),IF(LEN(SUBSTITUTE(SUBSTITUTE(SUBSTITUTE(TRIM(발령대장_입력!$D13),"-",""),".","")," ",""))=8,TEXT(DATE(VALUE(LEFT(SUBSTITUTE(SUBSTITUTE(SUBSTITUTE(TRIM(발령대장_입력!$D13),"-",""),".","")," ",""),4)),VALUE(MID(SUBSTITUTE(SUBSTITUTE(SUBSTITUTE(TRIM(발령대장_입력!$D13),"-",""),".","")," ",""),5,2)),VALUE(RIGHT(SUBSTITUTE(SUBSTITUTE(SUBSTITUTE(TRIM(발령대장_입력!$D13),"-",""),".","")," ",""),2))),"yyyy. m. d."),IF(LEN(SUBSTITUTE(SUBSTITUTE(SUBSTITUTE(TRIM(발령대장_입력!$D13),"-",""),".","")," ",""))=6,TEXT(DATE(IF(VALUE(LEFT(SUBSTITUTE(SUBSTITUTE(SUBSTITUTE(TRIM(발령대장_입력!$D13),"-",""),".","")," ",""),2))<=MOD(YEAR(TODAY()),100),2000+VALUE(LEFT(SUBSTITUTE(SUBSTITUTE(SUBSTITUTE(TRIM(발령대장_입력!$D13),"-",""),".","")," ",""),2)),1900+VALUE(LEFT(SUBSTITUTE(SUBSTITUTE(SUBSTITUTE(TRIM(발령대장_입력!$D13),"-",""),".","")," ",""),2))),VALUE(MID(SUBSTITUTE(SUBSTITUTE(SUBSTITUTE(TRIM(발령대장_입력!$D13),"-",""),".","")," ",""),3,2)),VALUE(RIGHT(SUBSTITUTE(SUBSTITUTE(SUBSTITUTE(TRIM(발령대장_입력!$D13),"-",""),".","")," ",""),2))),"yyyy. m. d."),IFERROR(TEXT(DATEVALUE(발령대장_입력!$D13),"yyyy. m. d."),발령대장_입력!$D13)))))&")")) | E16: =IF($A16="","",발령대장_입력!$A13&"에 임함"&IF(발령대장_입력!$B13="","",CHAR(10)&"("&발령대장_입력!$B13&")")&IF(발령대장_입력!$G13="","",CHAR(10)&"("&SUBSTITUTE(SUBSTITUTE(발령대장_입력!$G13,"호봉","")," ","")&")호봉을 급함")&CHAR(10)&"임용기간: "&YEAR(발령대장_입력!$E13)&"."&MONTH(발령대장_입력!$E13)&"."&DAY(발령대장_입력!$E13)&"."&" ~ "&YEAR(발령대장_입력!$F13)&"."&MONTH(발령대장_입력!$F13)&"."&DAY(발령대장_입력!$F13)&".") | F16: =IF($A16="","",IF(기본설정·안내!$B$5="","",기본설정·안내!$B$5)) | G16: =IF($A16="","",IF(기본설정·안내!$B$6="","",기본설정·안내!$B$6)) | H16: =IF($A16="","",IF(기본설정·안내!$B$7="","",기본설정·안내!$B$7)) | I16: =IF($A16="","",IF(기본설정·안내!$B$8="","",기본설정·안내!$B$8)) | J16: =IF($A16="","",IF(기본설정·안내!$B$9="","",기본설정·안내!$B$9))
... A176: =IF(발령대장_입력!$C173="","",발령대장_입력!$E173) | B176: =IF($A176="","",IF(기본설정·안내!$B$4="","",기본설정·안내!$B$4)) | C176: =IF($A176="","",IF(발령대장_입력!$B173="",발령대장_입력!$A173,발령대장_입력!$A173&CHAR(10)&"("&발령대장_입력!$B173&")")) | D176: =IF($A176="","",발령대장_입력!$C173&IF(발령대장_입력!$D173="","",CHAR(10)&"("&IF(AND(ISNUMBER(발령대장_입력!$D173),LEN(TEXT(발령대장_입력!$D173,"0"))<6),TEXT(발령대장_입력!$D173,"yyyy. m. d."),IF(LEN(SUBSTITUTE(SUBSTITUTE(SUBSTITUTE(TRIM(발령대장_입력!$D173),"-",""),".","")," ",""))=13,TEXT(DATE(IF(OR(MID(SUBSTITUTE(SUBSTITUTE(SUBSTITUTE(TRIM(발령대장_입력!$D173),"-",""),".","")," ",""),7,1)="1",MID(SUBSTITUTE(SUBSTITUTE(SUBSTITUTE(TRIM(발령대장_입력!$D173),"-",""),".","")," ",""),7,1)="2",MID(SUBSTITUTE(SUBSTITUTE(SUBSTITUTE(TRIM(발령대장_입력!$D173),"-",""),".","")," ",""),7,1)="5",MID(SUBSTITUTE(SUBSTITUTE(SUBSTITUTE(TRIM(발령대장_입력!$D173),"-",""),".","")," ",""),7,1)="6"),1900+VALUE(LEFT(SUBSTITUTE(SUBSTITUTE(SUBSTITUTE(TRIM(발령대장_입력!$D173),"-",""),".","")," ",""),2)),IF(OR(MID(SUBSTITUTE(SUBSTITUTE(SUBSTITUTE(TRIM(발령대장_입력!$D173),"-",""),".","")," ",""),7,1)="3",MID(SUBSTITUTE(SUBSTITUTE(SUBSTITUTE(TRIM(발령대장_입력!$D173),"-",""),".","")," ",""),7,1)="4",MID(SUBSTITUTE(SUBSTITUTE(SUBSTITUTE(TRIM(발령대장_입력!$D173),"-",""),".","")," ",""),7,1)="7",MID(SUBSTITUTE(SUBSTITUTE(SUBSTITUTE(TRIM(발령대장_입력!$D173),"-",""),".","")," ",""),7,1)="8"),2000+VALUE(LEFT(SUBSTITUTE(SUBSTITUTE(SUBSTITUTE(TRIM(발령대장_입력!$D173),"-",""),".","")," ",""),2)),1800+VALUE(LEFT(SUBSTITUTE(SUBSTITUTE(SUBSTITUTE(TRIM(발령대장_입력!$D173),"-",""),".","")," ",""),2)))),VALUE(MID(SUBSTITUTE(SUBSTITUTE(SUBSTITUTE(TRIM(발령대장_입력!$D173),"-",""),".","")," ",""),3,2)),VALUE(MID(SUBSTITUTE(SUBSTITUTE(SUBSTITUTE(TRIM(발령대장_입력!$D173),"-",""),".","")," ",""),5,2))),"yyyy. m. d."),IF(LEN(SUBSTITUTE(SUBSTITUTE(SUBSTITUTE(TRIM(발령대장_입력!$D173),"-",""),".","")," ",""))=8,TEXT(DATE(VALUE(LEFT(SUBSTITUTE(SUBSTITUTE(SUBSTITUTE(TRIM(발령대장_입력!$D173),"-",""),".","")," ",""),4)),VALUE(MID(SUBSTITUTE(SUBSTITUTE(SUBSTITUTE(TRIM(발령대장_입력!$D173),"-",""),".","")," ",""),5,2)),VALUE(RIGHT(SUBSTITUTE(SUBSTITUTE(SUBSTITUTE(TRIM(발령대장_입력!$D173),"-",""),".","")," ",""),2))),"yyyy. m. d."),IF(LEN(SUBSTITUTE(SUBSTITUTE(SUBSTITUTE(TRIM(발령대장_입력!$D173),"-",""),".","")," ",""))=6,TEXT(DATE(IF(VALUE(LEFT(SUBSTITUTE(SUBSTITUTE(SUBSTITUTE(TRIM(발령대장_입력!$D173),"-",""),".","")," ",""),2))<=MOD(YEAR(TODAY()),100),2000+VALUE(LEFT(SUBSTITUTE(SUBSTITUTE(SUBSTITUTE(TRIM(발령대장_입력!$D173),"-",""),".","")," ",""),2)),1900+VALUE(LEFT(SUBSTITUTE(SUBSTITUTE(SUBSTITUTE(TRIM(발령대장_입력!$D173),"-",""),".","")," ",""),2))),VALUE(MID(SUBSTITUTE(SUBSTITUTE(SUBSTITUTE(TRIM(발령대장_입력!$D173),"-",""),".","")," ",""),3,2)),VALUE(RIGHT(SUBSTITUTE(SUBSTITUTE(SUBSTITUTE(TRIM(발령대장_입력!$D173),"-",""),".","")," ",""),2))),"yyyy. m. d."),IFERROR(TEXT(DATEVALUE(발령대장_입력!$D173),"yyyy. m. d."),발령대장_입력!$D173)))))&")")) | E176: =IF($A176="","",발령대장_입력!$A173&"에 임함"&IF(발령대장_입력!$B173="","",CHAR(10)&"("&발령대장_입력!$B173&")")&IF(발령대장_입력!$G173="","",CHAR(10)&"("&SUBSTITUTE(SUBSTITUTE(발령대장_입력!$G173,"호봉","")," ","")&")호봉을 급함")&CHAR(10)&"임용기간: "&YEAR(발령대장_입력!$E173)&"."&MONTH(발령대장_입력!$E173)&"."&DAY(발령대장_입력!$E173)&"."&" ~ "&YEAR(발령대장_입력!$F173)&"."&MONTH(발령대장_입력!$F173)&"."&DAY(발령대장_입력!$F173)&".") | F176: =IF($A176="","",IF(기본설정·안내!$B$5="","",기본설정·안내!$B$5)) | G176: =IF($A176="","",IF(기본설정·안내!$B$6="","",기본설정·안내!$B$6)) | H176: =IF($A176="","",IF(기본설정·안내!$B$7="","",기본설정·안내!$B$7)) | I176: =IF($A176="","",IF(기본설정·안내!$B$8="","",기본설정·안내!$B$8)) | J176: =IF($A176="","",IF(기본설정·안내!$B$9="","",기본설정·안내!$B$9))
A177: =IF(발령대장_입력!$C501="","",발령대장_입력!$E501) | B177: =IF($A177="","",IF(기본설정·안내!$B$4="","",기본설정·안내!$B$4)) | C177: =IF($A177="","",IF(발령대장_입력!$B501="",발령대장_입력!$A501,발령대장_입력!$A501&CHAR(10)&"("&발령대장_입력!$B501&")")) | D177: =IF($A177="","",발령대장_입력!$C501&IF(발령대장_입력!$D501="","",CHAR(10)&"("&IF(AND(ISNUMBER(발령대장_입력!$D501),LEN(TEXT(발령대장_입력!$D501,"0"))<6),TEXT(발령대장_입력!$D501,"yyyy. m. d."),IF(LEN(SUBSTITUTE(SUBSTITUTE(SUBSTITUTE(TRIM(발령대장_입력!$D501),"-",""),".","")," ",""))=13,TEXT(DATE(IF(OR(MID(SUBSTITUTE(SUBSTITUTE(SUBSTITUTE(TRIM(발령대장_입력!$D501),"-",""),".","")," ",""),7,1)="1",MID(SUBSTITUTE(SUBSTITUTE(SUBSTITUTE(TRIM(발령대장_입력!$D501),"-",""),".","")," ",""),7,1)="2",MID(SUBSTITUTE(SUBSTITUTE(SUBSTITUTE(TRIM(발령대장_입력!$D501),"-",""),".","")," ",""),7,1)="5",MID(SUBSTITUTE(SUBSTITUTE(SUBSTITUTE(TRIM(발령대장_입력!$D501),"-",""),".","")," ",""),7,1)="6"),1900+VALUE(LEFT(SUBSTITUTE(SUBSTITUTE(SUBSTITUTE(TRIM(발령대장_입력!$D501),"-",""),".","")," ",""),2)),IF(OR(MID(SUBSTITUTE(SUBSTITUTE(SUBSTITUTE(TRIM(발령대장_입력!$D501),"-",""),".","")," ",""),7,1)="3",MID(SUBSTITUTE(SUBSTITUTE(SUBSTITUTE(TRIM(발령대장_입력!$D501),"-",""),".","")," ",""),7,1)="4",MID(SUBSTITUTE(SUBSTITUTE(SUBSTITUTE(TRIM(발령대장_입력!$D501),"-",""),".","")," ",""),7,1)="7",MID(SUBSTITUTE(SUBSTITUTE(SUBSTITUTE(TRIM(발령대장_입력!$D501),"-",""),".","")," ",""),7,1)="8"),2000+VALUE(LEFT(SUBSTITUTE(SUBSTITUTE(SUBSTITUTE(TRIM(발령대장_입력!$D501),"-",""),".","")," ",""),2)),1800+VALUE(LEFT(SUBSTITUTE(SUBSTITUTE(SUBSTITUTE(TRIM(발령대장_입력!$D501),"-",""),".","")," ",""),2)))),VALUE(MID(SUBSTITUTE(SUBSTITUTE(SUBSTITUTE(TRIM(발령대장_입력!$D501),"-",""),".","")," ",""),3,2)),VALUE(MID(SUBSTITUTE(SUBSTITUTE(SUBSTITUTE(TRIM(발령대장_입력!$D501),"-",""),".","")," ",""),5,2))),"yyyy. m. d."),IF(LEN(SUBSTITUTE(SUBSTITUTE(SUBSTITUTE(TRIM(발령대장_입력!$D501),"-",""),".","")," ",""))=8,TEXT(DATE(VALUE(LEFT(SUBSTITUTE(SUBSTITUTE(SUBSTITUTE(TRIM(발령대장_입력!$D501),"-",""),".","")," ",""),4)),VALUE(MID(SUBSTITUTE(SUBSTITUTE(SUBSTITUTE(TRIM(발령대장_입력!$D501),"-",""),".","")," ",""),5,2)),VALUE(RIGHT(SUBSTITUTE(SUBSTITUTE(SUBSTITUTE(TRIM(발령대장_입력!$D501),"-",""),".","")," ",""),2))),"yyyy. m. d."),IF(LEN(SUBSTITUTE(SUBSTITUTE(SUBSTITUTE(TRIM(발령대장_입력!$D501),"-",""),".","")," ",""))=6,TEXT(DATE(IF(VALUE(LEFT(SUBSTITUTE(SUBSTITUTE(SUBSTITUTE(TRIM(발령대장_입력!$D501),"-",""),".","")," ",""),2))<=MOD(YEAR(TODAY()),100),2000+VALUE(LEFT(SUBSTITUTE(SUBSTITUTE(SUBSTITUTE(TRIM(발령대장_입력!$D501),"-",""),".","")," ",""),2)),1900+VALUE(LEFT(SUBSTITUTE(SUBSTITUTE(SUBSTITUTE(TRIM(발령대장_입력!$D501),"-",""),".","")," ",""),2))),VALUE(MID(SUBSTITUTE(SUBSTITUTE(SUBSTITUTE(TRIM(발령대장_입력!$D501),"-",""),".","")," ",""),3,2)),VALUE(RIGHT(SUBSTITUTE(SUBSTITUTE(SUBSTITUTE(TRIM(발령대장_입력!$D501),"-",""),".","")," ",""),2))),"yyyy. m. d."),IFERROR(TEXT(DATEVALUE(발령대장_입력!$D501),"yyyy. m. d."),발령대장_입력!$D501)))))&")")) | E177: =IF($A177="","",발령대장_입력!$A501&"에 임함"&IF(발령대장_입력!$B501="","",CHAR(10)&"("&발령대장_입력!$B501&")")&IF(발령대장_입력!$G501="","",CHAR(10)&"("&SUBSTITUTE(SUBSTITUTE(발령대장_입력!$G501,"호봉","")," ","")&")호봉을 급함")&CHAR(10)&"임용기간: "&YEAR(발령대장_입력!$E501)&"."&MONTH(발령대장_입력!$E501)&"."&DAY(발령대장_입력!$E501)&"."&" ~ "&YEAR(발령대장_입력!$F501)&"."&MONTH(발령대장_입력!$F501)&"."&DAY(발령대장_입력!$F501)&".") | F177: =IF($A177="","",IF(기본설정·안내!$B$5="","",기본설정·안내!$B$5)) | G177: =IF($A177="","",IF(기본설정·안내!$B$6="","",기본설정·안내!$B$6)) | H177: =IF($A177="","",IF(기본설정·안내!$B$7="","",기본설정·안내!$B$7)) | I177: =IF($A177="","",IF(기본설정·안내!$B$8="","",기본설정·안내!$B$8)) | J177: =IF($A177="","",IF(기본설정·안내!$B$9="","",기본설정·안내!$B$9))
A178: =IF(발령대장_입력!$C502="","",발령대장_입력!$E502) | B178: =IF($A178="","",IF(기본설정·안내!$B$4="","",기본설정·안내!$B$4)) | C178: =IF($A178="","",IF(발령대장_입력!$B502="",발령대장_입력!$A502,발령대장_입력!$A502&CHAR(10)&"("&발령대장_입력!$B502&")")) | D178: =IF($A178="","",발령대장_입력!$C502&IF(발령대장_입력!$D502="","",CHAR(10)&"("&IF(AND(ISNUMBER(발령대장_입력!$D502),LEN(TEXT(발령대장_입력!$D502,"0"))<6),TEXT(발령대장_입력!$D502,"yyyy. m. d."),IF(LEN(SUBSTITUTE(SUBSTITUTE(SUBSTITUTE(TRIM(발령대장_입력!$D502),"-",""),".","")," ",""))=13,TEXT(DATE(IF(OR(MID(SUBSTITUTE(SUBSTITUTE(SUBSTITUTE(TRIM(발령대장_입력!$D502),"-",""),".","")," ",""),7,1)="1",MID(SUBSTITUTE(SUBSTITUTE(SUBSTITUTE(TRIM(발령대장_입력!$D502),"-",""),".","")," ",""),7,1)="2",MID(SUBSTITUTE(SUBSTITUTE(SUBSTITUTE(TRIM(발령대장_입력!$D502),"-",""),".","")," ",""),7,1)="5",MID(SUBSTITUTE(SUBSTITUTE(SUBSTITUTE(TRIM(발령대장_입력!$D502),"-",""),".","")," ",""),7,1)="6"),1900+VALUE(LEFT(SUBSTITUTE(SUBSTITUTE(SUBSTITUTE(TRIM(발령대장_입력!$D502),"-",""),".","")," ",""),2)),IF(OR(MID(SUBSTITUTE(SUBSTITUTE(SUBSTITUTE(TRIM(발령대장_입력!$D502),"-",""),".","")," ",""),7,1)="3",MID(SUBSTITUTE(SUBSTITUTE(SUBSTITUTE(TRIM(발령대장_입력!$D502),"-",""),".","")," ",""),7,1)="4",MID(SUBSTITUTE(SUBSTITUTE(SUBSTITUTE(TRIM(발령대장_입력!$D502),"-",""),".","")," ",""),7,1)="7",MID(SUBSTITUTE(SUBSTITUTE(SUBSTITUTE(TRIM(발령대장_입력!$D502),"-",""),".","")," ",""),7,1)="8"),2000+VALUE(LEFT(SUBSTITUTE(SUBSTITUTE(SUBSTITUTE(TRIM(발령대장_입력!$D502),"-",""),".","")," ",""),2)),1800+VALUE(LEFT(SUBSTITUTE(SUBSTITUTE(SUBSTITUTE(TRIM(발령대장_입력!$D502),"-",""),".","")," ",""),2)))),VALUE(MID(SUBSTITUTE(SUBSTITUTE(SUBSTITUTE(TRIM(발령대장_입력!$D502),"-",""),".","")," ",""),3,2)),VALUE(MID(SUBSTITUTE(SUBSTITUTE(SUBSTITUTE(TRIM(발령대장_입력!$D502),"-",""),".","")," ",""),5,2))),"yyyy. m. d."),IF(LEN(SUBSTITUTE(SUBSTITUTE(SUBSTITUTE(TRIM(발령대장_입력!$D502),"-",""),".","")," ",""))=8,TEXT(DATE(VALUE(LEFT(SUBSTITUTE(SUBSTITUTE(SUBSTITUTE(TRIM(발령대장_입력!$D502),"-",""),".","")," ",""),4)),VALUE(MID(SUBSTITUTE(SUBSTITUTE(SUBSTITUTE(TRIM(발령대장_입력!$D502),"-",""),".","")," ",""),5,2)),VALUE(RIGHT(SUBSTITUTE(SUBSTITUTE(SUBSTITUTE(TRIM(발령대장_입력!$D502),"-",""),".","")," ",""),2))),"yyyy. m. d."),IF(LEN(SUBSTITUTE(SUBSTITUTE(SUBSTITUTE(TRIM(발령대장_입력!$D502),"-",""),".","")," ",""))=6,TEXT(DATE(IF(VALUE(LEFT(SUBSTITUTE(SUBSTITUTE(SUBSTITUTE(TRIM(발령대장_입력!$D502),"-",""),".","")," ",""),2))<=MOD(YEAR(TODAY()),100),2000+VALUE(LEFT(SUBSTITUTE(SUBSTITUTE(SUBSTITUTE(TRIM(발령대장_입력!$D502),"-",""),".","")," ",""),2)),1900+VALUE(LEFT(SUBSTITUTE(SUBSTITUTE(SUBSTITUTE(TRIM(발령대장_입력!$D502),"-",""),".","")," ",""),2))),VALUE(MID(SUBSTITUTE(SUBSTITUTE(SUBSTITUTE(TRIM(발령대장_입력!$D502),"-",""),".","")," ",""),3,2)),VALUE(RIGHT(SUBSTITUTE(SUBSTITUTE(SUBSTITUTE(TRIM(발령대장_입력!$D502),"-",""),".","")," ",""),2))),"yyyy. m. d."),IFERROR(TEXT(DATEVALUE(발령대장_입력!$D502),"yyyy. m. d."),발령대장_입력!$D502)))))&")")) | E178: =IF($A178="","",발령대장_입력!$A502&"에 임함"&IF(발령대장_입력!$B502="","",CHAR(10)&"("&발령대장_입력!$B502&")")&IF(발령대장_입력!$G502="","",CHAR(10)&"("&SUBSTITUTE(SUBSTITUTE(발령대장_입력!$G502,"호봉","")," ","")&")호봉을 급함")&CHAR(10)&"임용기간: "&YEAR(발령대장_입력!$E502)&"."&MONTH(발령대장_입력!$E502)&"."&DAY(발령대장_입력!$E502)&"."&" ~ "&YEAR(발령대장_입력!$F502)&"."&MONTH(발령대장_입력!$F502)&"."&DAY(발령대장_입력!$F502)&".") | F178: =IF($A178="","",IF(기본설정·안내!$B$5="","",기본설정·안내!$B$5)) | G178: =IF($A178="","",IF(기본설정·안내!$B$6="","",기본설정·안내!$B$6)) | H178: =IF($A178="","",IF(기본설정·안내!$B$7="","",기본설정·안내!$B$7)) | I178: =IF($A178="","",IF(기본설정·안내!$B$8="","",기본설정·안내!$B$8)) | J178: =IF($A178="","",IF(기본설정·안내!$B$9="","",기본설정·안내!$B$9))
A179: =IF(발령대장_입력!$C503="","",발령대장_입력!$E503) | B179: =IF($A179="","",IF(기본설정·안내!$B$4="","",기본설정·안내!$B$4)) | C179: =IF($A179="","",IF(발령대장_입력!$B503="",발령대장_입력!$A503,발령대장_입력!$A503&CHAR(10)&"("&발령대장_입력!$B503&")")) | D179: =IF($A179="","",발령대장_입력!$C503&IF(발령대장_입력!$D503="","",CHAR(10)&"("&IF(AND(ISNUMBER(발령대장_입력!$D503),LEN(TEXT(발령대장_입력!$D503,"0"))<6),TEXT(발령대장_입력!$D503,"yyyy. m. d."),IF(LEN(SUBSTITUTE(SUBSTITUTE(SUBSTITUTE(TRIM(발령대장_입력!$D503),"-",""),".","")," ",""))=13,TEXT(DATE(IF(OR(MID(SUBSTITUTE(SUBSTITUTE(SUBSTITUTE(TRIM(발령대장_입력!$D503),"-",""),".","")," ",""),7,1)="1",MID(SUBSTITUTE(SUBSTITUTE(SUBSTITUTE(TRIM(발령대장_입력!$D503),"-",""),".","")," ",""),7,1)="2",MID(SUBSTITUTE(SUBSTITUTE(SUBSTITUTE(TRIM(발령대장_입력!$D503),"-",""),".","")," ",""),7,1)="5",MID(SUBSTITUTE(SUBSTITUTE(SUBSTITUTE(TRIM(발령대장_입력!$D503),"-",""),".","")," ",""),7,1)="6"),1900+VALUE(LEFT(SUBSTITUTE(SUBSTITUTE(SUBSTITUTE(TRIM(발령대장_입력!$D503),"-",""),".","")," ",""),2)),IF(OR(MID(SUBSTITUTE(SUBSTITUTE(SUBSTITUTE(TRIM(발령대장_입력!$D503),"-",""),".","")," ",""),7,1)="3",MID(SUBSTITUTE(SUBSTITUTE(SUBSTITUTE(TRIM(발령대장_입력!$D503),"-",""),".","")," ",""),7,1)="4",MID(SUBSTITUTE(SUBSTITUTE(SUBSTITUTE(TRIM(발령대장_입력!$D503),"-",""),".","")," ",""),7,1)="7",MID(SUBSTITUTE(SUBSTITUTE(SUBSTITUTE(TRIM(발령대장_입력!$D503),"-",""),".","")," ",""),7,1)="8"),2000+VALUE(LEFT(SUBSTITUTE(SUBSTITUTE(SUBSTITUTE(TRIM(발령대장_입력!$D503),"-",""),".","")," ",""),2)),1800+VALUE(LEFT(SUBSTITUTE(SUBSTITUTE(SUBSTITUTE(TRIM(발령대장_입력!$D503),"-",""),".","")," ",""),2)))),VALUE(MID(SUBSTITUTE(SUBSTITUTE(SUBSTITUTE(TRIM(발령대장_입력!$D503),"-",""),".","")," ",""),3,2)),VALUE(MID(SUBSTITUTE(SUBSTITUTE(SUBSTITUTE(TRIM(발령대장_입력!$D503),"-",""),".","")," ",""),5,2))),"yyyy. m. d."),IF(LEN(SUBSTITUTE(SUBSTITUTE(SUBSTITUTE(TRIM(발령대장_입력!$D503),"-",""),".","")," ",""))=8,TEXT(DATE(VALUE(LEFT(SUBSTITUTE(SUBSTITUTE(SUBSTITUTE(TRIM(발령대장_입력!$D503),"-",""),".","")," ",""),4)),VALUE(MID(SUBSTITUTE(SUBSTITUTE(SUBSTITUTE(TRIM(발령대장_입력!$D503),"-",""),".","")," ",""),5,2)),VALUE(RIGHT(SUBSTITUTE(SUBSTITUTE(SUBSTITUTE(TRIM(발령대장_입력!$D503),"-",""),".","")," ",""),2))),"yyyy. m. d."),IF(LEN(SUBSTITUTE(SUBSTITUTE(SUBSTITUTE(TRIM(발령대장_입력!$D503),"-",""),".","")," ",""))=6,TEXT(DATE(IF(VALUE(LEFT(SUBSTITUTE(SUBSTITUTE(SUBSTITUTE(TRIM(발령대장_입력!$D503),"-",""),".","")," ",""),2))<=MOD(YEAR(TODAY()),100),2000+VALUE(LEFT(SUBSTITUTE(SUBSTITUTE(SUBSTITUTE(TRIM(발령대장_입력!$D503),"-",""),".","")," ",""),2)),1900+VALUE(LEFT(SUBSTITUTE(SUBSTITUTE(SUBSTITUTE(TRIM(발령대장_입력!$D503),"-",""),".","")," ",""),2))),VALUE(MID(SUBSTITUTE(SUBSTITUTE(SUBSTITUTE(TRIM(발령대장_입력!$D503),"-",""),".","")," ",""),3,2)),VALUE(RIGHT(SUBSTITUTE(SUBSTITUTE(SUBSTITUTE(TRIM(발령대장_입력!$D503),"-",""),".","")," ",""),2))),"yyyy. m. d."),IFERROR(TEXT(DATEVALUE(발령대장_입력!$D503),"yyyy. m. d."),발령대장_입력!$D503)))))&")")) | E179: =IF($A179="","",발령대장_입력!$A503&"에 임함"&IF(발령대장_입력!$B503="","",CHAR(10)&"("&발령대장_입력!$B503&")")&IF(발령대장_입력!$G503="","",CHAR(10)&"("&SUBSTITUTE(SUBSTITUTE(발령대장_입력!$G503,"호봉","")," ","")&")호봉을 급함")&CHAR(10)&"임용기간: "&YEAR(발령대장_입력!$E503)&"."&MONTH(발령대장_입력!$E503)&"."&DAY(발령대장_입력!$E503)&"."&" ~ "&YEAR(발령대장_입력!$F503)&"."&MONTH(발령대장_입력!$F503)&"."&DAY(발령대장_입력!$F503)&".") | F179: =IF($A179="","",IF(기본설정·안내!$B$5="","",기본설정·안내!$B$5)) | G179: =IF($A179="","",IF(기본설정·안내!$B$6="","",기본설정·안내!$B$6)) | H179: =IF($A179="","",IF(기본설정·안내!$B$7="","",기본설정·안내!$B$7)) | I179: =IF($A179="","",IF(기본설정·안내!$B$8="","",기본설정·안내!$B$8)) | J179: =IF($A179="","",IF(기본설정·안내!$B$9="","",기본설정·안내!$B$9))
A180: =IF(발령대장_입력!$C504="","",발령대장_입력!$E504) | B180: =IF($A180="","",IF(기본설정·안내!$B$4="","",기본설정·안내!$B$4)) | C180: =IF($A180="","",IF(발령대장_입력!$B504="",발령대장_입력!$A504,발령대장_입력!$A504&CHAR(10)&"("&발령대장_입력!$B504&")")) | D180: =IF($A180="","",발령대장_입력!$C504&IF(발령대장_입력!$D504="","",CHAR(10)&"("&IF(AND(ISNUMBER(발령대장_입력!$D504),LEN(TEXT(발령대장_입력!$D504,"0"))<6),TEXT(발령대장_입력!$D504,"yyyy. m. d."),IF(LEN(SUBSTITUTE(SUBSTITUTE(SUBSTITUTE(TRIM(발령대장_입력!$D504),"-",""),".","")," ",""))=13,TEXT(DATE(IF(OR(MID(SUBSTITUTE(SUBSTITUTE(SUBSTITUTE(TRIM(발령대장_입력!$D504),"-",""),".","")," ",""),7,1)="1",MID(SUBSTITUTE(SUBSTITUTE(SUBSTITUTE(TRIM(발령대장_입력!$D504),"-",""),".","")," ",""),7,1)="2",MID(SUBSTITUTE(SUBSTITUTE(SUBSTITUTE(TRIM(발령대장_입력!$D504),"-",""),".","")," ",""),7,1)="5",MID(SUBSTITUTE(SUBSTITUTE(SUBSTITUTE(TRIM(발령대장_입력!$D504),"-",""),".","")," ",""),7,1)="6"),1900+VALUE(LEFT(SUBSTITUTE(SUBSTITUTE(SUBSTITUTE(TRIM(발령대장_입력!$D504),"-",""),".","")," ",""),2)),IF(OR(MID(SUBSTITUTE(SUBSTITUTE(SUBSTITUTE(TRIM(발령대장_입력!$D504),"-",""),".","")," ",""),7,1)="3",MID(SUBSTITUTE(SUBSTITUTE(SUBSTITUTE(TRIM(발령대장_입력!$D504),"-",""),".","")," ",""),7,1)="4",MID(SUBSTITUTE(SUBSTITUTE(SUBSTITUTE(TRIM(발령대장_입력!$D504),"-",""),".","")," ",""),7,1)="7",MID(SUBSTITUTE(SUBSTITUTE(SUBSTITUTE(TRIM(발령대장_입력!$D504),"-",""),".","")," ",""),7,1)="8"),2000+VALUE(LEFT(SUBSTITUTE(SUBSTITUTE(SUBSTITUTE(TRIM(발령대장_입력!$D504),"-",""),".","")," ",""),2)),1800+VALUE(LEFT(SUBSTITUTE(SUBSTITUTE(SUBSTITUTE(TRIM(발령대장_입력!$D504),"-",""),".","")," ",""),2)))),VALUE(MID(SUBSTITUTE(SUBSTITUTE(SUBSTITUTE(TRIM(발령대장_입력!$D504),"-",""),".","")," ",""),3,2)),VALUE(MID(SUBSTITUTE(SUBSTITUTE(SUBSTITUTE(TRIM(발령대장_입력!$D504),"-",""),".","")," ",""),5,2))),"yyyy. m. d."),IF(LEN(SUBSTITUTE(SUBSTITUTE(SUBSTITUTE(TRIM(발령대장_입력!$D504),"-",""),".","")," ",""))=8,TEXT(DATE(VALUE(LEFT(SUBSTITUTE(SUBSTITUTE(SUBSTITUTE(TRIM(발령대장_입력!$D504),"-",""),".","")," ",""),4)),VALUE(MID(SUBSTITUTE(SUBSTITUTE(SUBSTITUTE(TRIM(발령대장_입력!$D504),"-",""),".","")," ",""),5,2)),VALUE(RIGHT(SUBSTITUTE(SUBSTITUTE(SUBSTITUTE(TRIM(발령대장_입력!$D504),"-",""),".","")," ",""),2))),"yyyy. m. d."),IF(LEN(SUBSTITUTE(SUBSTITUTE(SUBSTITUTE(TRIM(발령대장_입력!$D504),"-",""),".","")," ",""))=6,TEXT(DATE(IF(VALUE(LEFT(SUBSTITUTE(SUBSTITUTE(SUBSTITUTE(TRIM(발령대장_입력!$D504),"-",""),".","")," ",""),2))<=MOD(YEAR(TODAY()),100),2000+VALUE(LEFT(SUBSTITUTE(SUBSTITUTE(SUBSTITUTE(TRIM(발령대장_입력!$D504),"-",""),".","")," ",""),2)),1900+VALUE(LEFT(SUBSTITUTE(SUBSTITUTE(SUBSTITUTE(TRIM(발령대장_입력!$D504),"-",""),".","")," ",""),2))),VALUE(MID(SUBSTITUTE(SUBSTITUTE(SUBSTITUTE(TRIM(발령대장_입력!$D504),"-",""),".","")," ",""),3,2)),VALUE(RIGHT(SUBSTITUTE(SUBSTITUTE(SUBSTITUTE(TRIM(발령대장_입력!$D504),"-",""),".","")," ",""),2))),"yyyy. m. d."),IFERROR(TEXT(DATEVALUE(발령대장_입력!$D504),"yyyy. m. d."),발령대장_입력!$D504)))))&")")) | E180: =IF($A180="","",발령대장_입력!$A504&"에 임함"&IF(발령대장_입력!$B504="","",CHAR(10)&"("&발령대장_입력!$B504&")")&IF(발령대장_입력!$G504="","",CHAR(10)&"("&SUBSTITUTE(SUBSTITUTE(발령대장_입력!$G504,"호봉","")," ","")&")호봉을 급함")&CHAR(10)&"임용기간: "&YEAR(발령대장_입력!$E504)&"."&MONTH(발령대장_입력!$E504)&"."&DAY(발령대장_입력!$E504)&"."&" ~ "&YEAR(발령대장_입력!$F504)&"."&MONTH(발령대장_입력!$F504)&"."&DAY(발령대장_입력!$F504)&".") | F180: =IF($A180="","",IF(기본설정·안내!$B$5="","",기본설정·안내!$B$5)) | G180: =IF($A180="","",IF(기본설정·안내!$B$6="","",기본설정·안내!$B$6)) | H180: =IF($A180="","",IF(기본설정·안내!$B$7="","",기본설정·안내!$B$7)) | I180: =IF($A180="","",IF(기본설정·안내!$B$8="","",기본설정·안내!$B$8)) | J180: =IF($A180="","",IF(기본설정·안내!$B$9="","",기본설정·안내!$B$9))
