Workbook

Sheet 기본설정·안내
A1: 교육공무직·일용직 발령대장 입력·출력 기본파일
A3: 기본 설정 | B3: 입력값
A4: 학교명(소속) | B4: 학돌중학교
A5: 발령권자 | B5: 학교장
A6: 기본 발령근거 | B6: 학돌중-
A7: 기재자날인
A8: 확인자날인
A9: 기본 비고
A11: 입력 원칙 | B11: 내용
A12: 입력 항목 | B12: 성명, 생년월일 또는 주민번호, 근무부서, 직종·직위, 고용형태, 임용시작일, 임용종료일, 퇴직사유, 소정근로시간, 발령사항, 비고를 입력합니다.
A13: 1행 1경력구간 | B13: 한 행에는 한 사람의 한 개 근로·임용기간을 입력합니다. 같은 사람이 여러 경력구간을 가지면 행을 나누어 입력합니다.
A14: 발령일 | B14: 임용시작일이 있으면 시작일이 발령일로 표시됩니다. 시작일 없이 종료일만 있는 후속 퇴직·면직 행은 종료일을 발령일로 사용합니다.
A15: 발령사항 | B15: 발령사항을 직접 입력하면 해당 문구를 우선 사용합니다. 비어 있으면 직종·직위, 근무부서, 고용형태, 소정근로시간, 근로기간을 조합해 자동 작성합니다.
A16: 후속 퇴직·면직 | B16: 시작일 없이 종료일만 있는 행은 의원면직·퇴직 등 후속 발령으로 사용할 수 있습니다. 이 경우 퇴직사유 또는 발령사항을 확인해 입력합니다.
A17: 생년월일 표시 | B17: 발령대장 성명 아래에는 생년월일만 표시합니다. 주민등록번호 전체를 입력해도 주민번호 전체는 출력하지 않습니다.
A18: 예시행 | B18: 2행의 '예) 홍길동' 자료는 발령대장 출력에서 자동 제외됩니다.
A19: 날짜 입력 | B19: 기본양식에는 임용일을 2012-03-01 형식으로 입력해 주세요. 웹앱은 20120301 형식도 인식합니다.
A20: 생년월일 입력 | B20: 19900101 또는 900101처럼 입력할 수 있습니다. 주민등록번호 전체 입력도 지원합니다.
A21: 인쇄 | B21: 발령대장_출력 시트의 1~4행을 인쇄 제목으로 반복 지정하면 편리합니다.

Sheet 발령대장_입력
A1: 성명 | B1: 생년월일 또는 주민번호 | C1: 근무부서 | D1: 직종·직위 | E1: 고용형태 | F1: 임용시작일 | G1: 임용종료일 | H1: 퇴직사유 | I1: 소정근로시간 | J1: 발령사항 | K1: 비고
A2: 예) 홍길동 | B2: 19900101 | C2: 행정실 | D2: 행정실무사 | E2: 교육공무직 | F2: 43891 | G2: 44255 | H2: 계약기간 만료 | I2: 주 40시간

Sheet 발령대장_출력
A1: ■ 교육공무원 인사기록 및 인사사무 처리 규칙 [별지 제24호서식] <개정 2013.11.13>
A2: 발 령 대 장
A4: 발 령 일 | B4: 소 속 | C4: 직위(직급) | D4: 성 명 | E4: 발 령 사 항 | F4: 발 령 권 자 | G4: 발 령 근 거 | H4: 기재자날인 | I4: 확인자날인 | J4: 비 고
A5: =IF(OR(발령대장_입력!$A2="",LEFT(발령대장_입력!$A2,2)="예)"),"",IF(ISNUMBER(발령대장_입력!$F2),발령대장_입력!$F2,IF(ISNUMBER(발령대장_입력!$G2),발령대장_입력!$G2,""))) | B5: =IF($A5="","",IF(기본설정·안내!$B$4="","",기본설정·안내!$B$4)) | C5: =IF($A5="","",발령대장_입력!$D2) | D5: =IF($A5="","",발령대장_입력!$A2&IF(발령대장_입력!$B2="","",CHAR(10)&"("&IF(발령대장_입력!$B2="","",IF(AND(ISNUMBER(발령대장_입력!$B2),발령대장_입력!$B2<100000),YEAR(발령대장_입력!$B2)&". "&MONTH(발령대장_입력!$B2)&". "&DAY(발령대장_입력!$B2)&".",IF(LEN((발령대장_입력!$B2&""))=8,LEFT((발령대장_입력!$B2&""),4)&". "&VALUE(MID((발령대장_입력!$B2&""),5,2))&". "&VALUE(RIGHT((발령대장_입력!$B2&""),2))&".",IF(LEN((발령대장_입력!$B2&""))=10,LEFT((발령대장_입력!$B2&""),4)&". "&VALUE(MID((발령대장_입력!$B2&""),6,2))&". "&VALUE(RIGHT((발령대장_입력!$B2&""),2))&".",IF(LEN((발령대장_입력!$B2&""))=6,IF(VALUE(LEFT((발령대장_입력!$B2&""),2))<=MOD(YEAR(TODAY()),100),2000+VALUE(LEFT((발령대장_입력!$B2&""),2)),1900+VALUE(LEFT((발령대장_입력!$B2&""),2)))&". "&VALUE(MID((발령대장_입력!$B2&""),3,2))&". "&VALUE(RIGHT((발령대장_입력!$B2&""),2))&".",IF(LEN((발령대장_입력!$B2&""))=13,IF(OR(MID((발령대장_입력!$B2&""),7,1)="1",MID((발령대장_입력!$B2&""),7,1)="2",MID((발령대장_입력!$B2&""),7,1)="5",MID((발령대장_입력!$B2&""),7,1)="6"),1900+VALUE(LEFT((발령대장_입력!$B2&""),2)),IF(OR(MID((발령대장_입력!$B2&""),7,1)="3",MID((발령대장_입력!$B2&""),7,1)="4",MID((발령대장_입력!$B2&""),7,1)="7",MID((발령대장_입력!$B2&""),7,1)="8"),2000+VALUE(LEFT((발령대장_입력!$B2&""),2)),1800+VALUE(LEFT((발령대장_입력!$B2&""),2))))&". "&VALUE(MID((발령대장_입력!$B2&""),3,2))&". "&VALUE(MID((발령대장_입력!$B2&""),5,2))&".",IF(LEN((발령대장_입력!$B2&""))=14,IF(OR(MID((발령대장_입력!$B2&""),8,1)="1",MID((발령대장_입력!$B2&""),8,1)="2",MID((발령대장_입력!$B2&""),8,1)="5",MID((발령대장_입력!$B2&""),8,1)="6"),1900+VALUE(LEFT((발령대장_입력!$B2&""),2)),IF(OR(MID((발령대장_입력!$B2&""),8,1)="3",MID((발령대장_입력!$B2&""),8,1)="4",MID((발령대장_입력!$B2&""),8,1)="7",MID((발령대장_입력!$B2&""),8,1)="8"),2000+VALUE(LEFT((발령대장_입력!$B2&""),2)),1800+VALUE(LEFT((발령대장_입력!$B2&""),2))))&". "&VALUE(MID((발령대장_입력!$B2&""),3,2))&". "&VALUE(MID((발령대장_입력!$B2&""),5,2))&".",발령대장_입력!$B2)))))))&")")) | E5: =IF($A5="","",IF(발령대장_입력!$J2<>"",발령대장_입력!$J2,IF(AND(발령대장_입력!$F2="",발령대장_입력!$G2<>""),IF(발령대장_입력!$H2<>"",발령대장_입력!$H2,발령대장_입력!$D2&" 퇴직"),발령대장_입력!$D2&"에 임함"&IF(발령대장_입력!$C2="","",CHAR(10)&"근무부서: "&발령대장_입력!$C2)&IF(발령대장_입력!$E2="","",CHAR(10)&"고용형태: "&발령대장_입력!$E2)&IF(발령대장_입력!$I2="","",CHAR(10)&"소정근로시간: "&발령대장_입력!$I2)&IF(ISNUMBER(발령대장_입력!$F2),CHAR(10)&"근로기간: "&YEAR(발령대장_입력!$F2)&"."&MONTH(발령대장_입력!$F2)&"."&DAY(발령대장_입력!$F2)&"."&" ~ "&IF(ISNUMBER(발령대장_입력!$G2),YEAR(발령대장_입력!$G2)&"."&MONTH(발령대장_입력!$G2)&"."&DAY(발령대장_입력!$G2)&".","재직 중"),"")&IF(발령대장_입력!$H2="","",CHAR(10)&"퇴직사유: "&발령대장_입력!$H2)))) | F5: =IF($A5="","",IF(기본설정·안내!$B$5="","",기본설정·안내!$B$5)) | G5: =IF($A5="","",IF(기본설정·안내!$B$6="","",기본설정·안내!$B$6)) | H5: =IF($A5="","",IF(기본설정·안내!$B$7="","",기본설정·안내!$B$7)) | I5: =IF($A5="","",IF(기본설정·안내!$B$8="","",기본설정·안내!$B$8)) | J5: =IF($A5="","",IF(발령대장_입력!$K2<>"",발령대장_입력!$K2,IF(기본설정·안내!$B$9="","",기본설정·안내!$B$9)))
A6: =IF(OR(발령대장_입력!$A3="",LEFT(발령대장_입력!$A3,2)="예)"),"",IF(ISNUMBER(발령대장_입력!$F3),발령대장_입력!$F3,IF(ISNUMBER(발령대장_입력!$G3),발령대장_입력!$G3,""))) | B6: =IF($A6="","",IF(기본설정·안내!$B$4="","",기본설정·안내!$B$4)) | C6: =IF($A6="","",발령대장_입력!$D3) | D6: =IF($A6="","",발령대장_입력!$A3&IF(발령대장_입력!$B3="","",CHAR(10)&"("&IF(발령대장_입력!$B3="","",IF(AND(ISNUMBER(발령대장_입력!$B3),발령대장_입력!$B3<100000),YEAR(발령대장_입력!$B3)&". "&MONTH(발령대장_입력!$B3)&". "&DAY(발령대장_입력!$B3)&".",IF(LEN((발령대장_입력!$B3&""))=8,LEFT((발령대장_입력!$B3&""),4)&". "&VALUE(MID((발령대장_입력!$B3&""),5,2))&". "&VALUE(RIGHT((발령대장_입력!$B3&""),2))&".",IF(LEN((발령대장_입력!$B3&""))=10,LEFT((발령대장_입력!$B3&""),4)&". "&VALUE(MID((발령대장_입력!$B3&""),6,2))&". "&VALUE(RIGHT((발령대장_입력!$B3&""),2))&".",IF(LEN((발령대장_입력!$B3&""))=6,IF(VALUE(LEFT((발령대장_입력!$B3&""),2))<=MOD(YEAR(TODAY()),100),2000+VALUE(LEFT((발령대장_입력!$B3&""),2)),1900+VALUE(LEFT((발령대장_입력!$B3&""),2)))&". "&VALUE(MID((발령대장_입력!$B3&""),3,2))&". "&VALUE(RIGHT((발령대장_입력!$B3&""),2))&".",IF(LEN((발령대장_입력!$B3&""))=13,IF(OR(MID((발령대장_입력!$B3&""),7,1)="1",MID((발령대장_입력!$B3&""),7,1)="2",MID((발령대장_입력!$B3&""),7,1)="5",MID((발령대장_입력!$B3&""),7,1)="6"),1900+VALUE(LEFT((발령대장_입력!$B3&""),2)),IF(OR(MID((발령대장_입력!$B3&""),7,1)="3",MID((발령대장_입력!$B3&""),7,1)="4",MID((발령대장_입력!$B3&""),7,1)="7",MID((발령대장_입력!$B3&""),7,1)="8"),2000+VALUE(LEFT((발령대장_입력!$B3&""),2)),1800+VALUE(LEFT((발령대장_입력!$B3&""),2))))&". "&VALUE(MID((발령대장_입력!$B3&""),3,2))&". "&VALUE(MID((발령대장_입력!$B3&""),5,2))&".",IF(LEN((발령대장_입력!$B3&""))=14,IF(OR(MID((발령대장_입력!$B3&""),8,1)="1",MID((발령대장_입력!$B3&""),8,1)="2",MID((발령대장_입력!$B3&""),8,1)="5",MID((발령대장_입력!$B3&""),8,1)="6"),1900+VALUE(LEFT((발령대장_입력!$B3&""),2)),IF(OR(MID((발령대장_입력!$B3&""),8,1)="3",MID((발령대장_입력!$B3&""),8,1)="4",MID((발령대장_입력!$B3&""),8,1)="7",MID((발령대장_입력!$B3&""),8,1)="8"),2000+VALUE(LEFT((발령대장_입력!$B3&""),2)),1800+VALUE(LEFT((발령대장_입력!$B3&""),2))))&". "&VALUE(MID((발령대장_입력!$B3&""),3,2))&". "&VALUE(MID((발령대장_입력!$B3&""),5,2))&".",발령대장_입력!$B3)))))))&")")) | E6: =IF($A6="","",IF(발령대장_입력!$J3<>"",발령대장_입력!$J3,IF(AND(발령대장_입력!$F3="",발령대장_입력!$G3<>""),IF(발령대장_입력!$H3<>"",발령대장_입력!$H3,발령대장_입력!$D3&" 퇴직"),발령대장_입력!$D3&"에 임함"&IF(발령대장_입력!$C3="","",CHAR(10)&"근무부서: "&발령대장_입력!$C3)&IF(발령대장_입력!$E3="","",CHAR(10)&"고용형태: "&발령대장_입력!$E3)&IF(발령대장_입력!$I3="","",CHAR(10)&"소정근로시간: "&발령대장_입력!$I3)&IF(ISNUMBER(발령대장_입력!$F3),CHAR(10)&"근로기간: "&YEAR(발령대장_입력!$F3)&"."&MONTH(발령대장_입력!$F3)&"."&DAY(발령대장_입력!$F3)&"."&" ~ "&IF(ISNUMBER(발령대장_입력!$G3),YEAR(발령대장_입력!$G3)&"."&MONTH(발령대장_입력!$G3)&"."&DAY(발령대장_입력!$G3)&".","재직 중"),"")&IF(발령대장_입력!$H3="","",CHAR(10)&"퇴직사유: "&발령대장_입력!$H3)))) | F6: =IF($A6="","",IF(기본설정·안내!$B$5="","",기본설정·안내!$B$5)) | G6: =IF($A6="","",IF(기본설정·안내!$B$6="","",기본설정·안내!$B$6)) | H6: =IF($A6="","",IF(기본설정·안내!$B$7="","",기본설정·안내!$B$7)) | I6: =IF($A6="","",IF(기본설정·안내!$B$8="","",기본설정·안내!$B$8)) | J6: =IF($A6="","",IF(발령대장_입력!$K3<>"",발령대장_입력!$K3,IF(기본설정·안내!$B$9="","",기본설정·안내!$B$9)))
A7: =IF(OR(발령대장_입력!$A4="",LEFT(발령대장_입력!$A4,2)="예)"),"",IF(ISNUMBER(발령대장_입력!$F4),발령대장_입력!$F4,IF(ISNUMBER(발령대장_입력!$G4),발령대장_입력!$G4,""))) | B7: =IF($A7="","",IF(기본설정·안내!$B$4="","",기본설정·안내!$B$4)) | C7: =IF($A7="","",발령대장_입력!$D4) | D7: =IF($A7="","",발령대장_입력!$A4&IF(발령대장_입력!$B4="","",CHAR(10)&"("&IF(발령대장_입력!$B4="","",IF(AND(ISNUMBER(발령대장_입력!$B4),발령대장_입력!$B4<100000),YEAR(발령대장_입력!$B4)&". "&MONTH(발령대장_입력!$B4)&". "&DAY(발령대장_입력!$B4)&".",IF(LEN((발령대장_입력!$B4&""))=8,LEFT((발령대장_입력!$B4&""),4)&". "&VALUE(MID((발령대장_입력!$B4&""),5,2))&". "&VALUE(RIGHT((발령대장_입력!$B4&""),2))&".",IF(LEN((발령대장_입력!$B4&""))=10,LEFT((발령대장_입력!$B4&""),4)&". "&VALUE(MID((발령대장_입력!$B4&""),6,2))&". "&VALUE(RIGHT((발령대장_입력!$B4&""),2))&".",IF(LEN((발령대장_입력!$B4&""))=6,IF(VALUE(LEFT((발령대장_입력!$B4&""),2))<=MOD(YEAR(TODAY()),100),2000+VALUE(LEFT((발령대장_입력!$B4&""),2)),1900+VALUE(LEFT((발령대장_입력!$B4&""),2)))&". "&VALUE(MID((발령대장_입력!$B4&""),3,2))&". "&VALUE(RIGHT((발령대장_입력!$B4&""),2))&".",IF(LEN((발령대장_입력!$B4&""))=13,IF(OR(MID((발령대장_입력!$B4&""),7,1)="1",MID((발령대장_입력!$B4&""),7,1)="2",MID((발령대장_입력!$B4&""),7,1)="5",MID((발령대장_입력!$B4&""),7,1)="6"),1900+VALUE(LEFT((발령대장_입력!$B4&""),2)),IF(OR(MID((발령대장_입력!$B4&""),7,1)="3",MID((발령대장_입력!$B4&""),7,1)="4",MID((발령대장_입력!$B4&""),7,1)="7",MID((발령대장_입력!$B4&""),7,1)="8"),2000+VALUE(LEFT((발령대장_입력!$B4&""),2)),1800+VALUE(LEFT((발령대장_입력!$B4&""),2))))&". "&VALUE(MID((발령대장_입력!$B4&""),3,2))&". "&VALUE(MID((발령대장_입력!$B4&""),5,2))&".",IF(LEN((발령대장_입력!$B4&""))=14,IF(OR(MID((발령대장_입력!$B4&""),8,1)="1",MID((발령대장_입력!$B4&""),8,1)="2",MID((발령대장_입력!$B4&""),8,1)="5",MID((발령대장_입력!$B4&""),8,1)="6"),1900+VALUE(LEFT((발령대장_입력!$B4&""),2)),IF(OR(MID((발령대장_입력!$B4&""),8,1)="3",MID((발령대장_입력!$B4&""),8,1)="4",MID((발령대장_입력!$B4&""),8,1)="7",MID((발령대장_입력!$B4&""),8,1)="8"),2000+VALUE(LEFT((발령대장_입력!$B4&""),2)),1800+VALUE(LEFT((발령대장_입력!$B4&""),2))))&". "&VALUE(MID((발령대장_입력!$B4&""),3,2))&". "&VALUE(MID((발령대장_입력!$B4&""),5,2))&".",발령대장_입력!$B4)))))))&")")) | E7: =IF($A7="","",IF(발령대장_입력!$J4<>"",발령대장_입력!$J4,IF(AND(발령대장_입력!$F4="",발령대장_입력!$G4<>""),IF(발령대장_입력!$H4<>"",발령대장_입력!$H4,발령대장_입력!$D4&" 퇴직"),발령대장_입력!$D4&"에 임함"&IF(발령대장_입력!$C4="","",CHAR(10)&"근무부서: "&발령대장_입력!$C4)&IF(발령대장_입력!$E4="","",CHAR(10)&"고용형태: "&발령대장_입력!$E4)&IF(발령대장_입력!$I4="","",CHAR(10)&"소정근로시간: "&발령대장_입력!$I4)&IF(ISNUMBER(발령대장_입력!$F4),CHAR(10)&"근로기간: "&YEAR(발령대장_입력!$F4)&"."&MONTH(발령대장_입력!$F4)&"."&DAY(발령대장_입력!$F4)&"."&" ~ "&IF(ISNUMBER(발령대장_입력!$G4),YEAR(발령대장_입력!$G4)&"."&MONTH(발령대장_입력!$G4)&"."&DAY(발령대장_입력!$G4)&".","재직 중"),"")&IF(발령대장_입력!$H4="","",CHAR(10)&"퇴직사유: "&발령대장_입력!$H4)))) | F7: =IF($A7="","",IF(기본설정·안내!$B$5="","",기본설정·안내!$B$5)) | G7: =IF($A7="","",IF(기본설정·안내!$B$6="","",기본설정·안내!$B$6)) | H7: =IF($A7="","",IF(기본설정·안내!$B$7="","",기본설정·안내!$B$7)) | I7: =IF($A7="","",IF(기본설정·안내!$B$8="","",기본설정·안내!$B$8)) | J7: =IF($A7="","",IF(발령대장_입력!$K4<>"",발령대장_입력!$K4,IF(기본설정·안내!$B$9="","",기본설정·안내!$B$9)))
A8: =IF(OR(발령대장_입력!$A5="",LEFT(발령대장_입력!$A5,2)="예)"),"",IF(ISNUMBER(발령대장_입력!$F5),발령대장_입력!$F5,IF(ISNUMBER(발령대장_입력!$G5),발령대장_입력!$G5,""))) | B8: =IF($A8="","",IF(기본설정·안내!$B$4="","",기본설정·안내!$B$4)) | C8: =IF($A8="","",발령대장_입력!$D5) | D8: =IF($A8="","",발령대장_입력!$A5&IF(발령대장_입력!$B5="","",CHAR(10)&"("&IF(발령대장_입력!$B5="","",IF(AND(ISNUMBER(발령대장_입력!$B5),발령대장_입력!$B5<100000),YEAR(발령대장_입력!$B5)&". "&MONTH(발령대장_입력!$B5)&". "&DAY(발령대장_입력!$B5)&".",IF(LEN((발령대장_입력!$B5&""))=8,LEFT((발령대장_입력!$B5&""),4)&". "&VALUE(MID((발령대장_입력!$B5&""),5,2))&". "&VALUE(RIGHT((발령대장_입력!$B5&""),2))&".",IF(LEN((발령대장_입력!$B5&""))=10,LEFT((발령대장_입력!$B5&""),4)&". "&VALUE(MID((발령대장_입력!$B5&""),6,2))&". "&VALUE(RIGHT((발령대장_입력!$B5&""),2))&".",IF(LEN((발령대장_입력!$B5&""))=6,IF(VALUE(LEFT((발령대장_입력!$B5&""),2))<=MOD(YEAR(TODAY()),100),2000+VALUE(LEFT((발령대장_입력!$B5&""),2)),1900+VALUE(LEFT((발령대장_입력!$B5&""),2)))&". "&VALUE(MID((발령대장_입력!$B5&""),3,2))&". "&VALUE(RIGHT((발령대장_입력!$B5&""),2))&".",IF(LEN((발령대장_입력!$B5&""))=13,IF(OR(MID((발령대장_입력!$B5&""),7,1)="1",MID((발령대장_입력!$B5&""),7,1)="2",MID((발령대장_입력!$B5&""),7,1)="5",MID((발령대장_입력!$B5&""),7,1)="6"),1900+VALUE(LEFT((발령대장_입력!$B5&""),2)),IF(OR(MID((발령대장_입력!$B5&""),7,1)="3",MID((발령대장_입력!$B5&""),7,1)="4",MID((발령대장_입력!$B5&""),7,1)="7",MID((발령대장_입력!$B5&""),7,1)="8"),2000+VALUE(LEFT((발령대장_입력!$B5&""),2)),1800+VALUE(LEFT((발령대장_입력!$B5&""),2))))&". "&VALUE(MID((발령대장_입력!$B5&""),3,2))&". "&VALUE(MID((발령대장_입력!$B5&""),5,2))&".",IF(LEN((발령대장_입력!$B5&""))=14,IF(OR(MID((발령대장_입력!$B5&""),8,1)="1",MID((발령대장_입력!$B5&""),8,1)="2",MID((발령대장_입력!$B5&""),8,1)="5",MID((발령대장_입력!$B5&""),8,1)="6"),1900+VALUE(LEFT((발령대장_입력!$B5&""),2)),IF(OR(MID((발령대장_입력!$B5&""),8,1)="3",MID((발령대장_입력!$B5&""),8,1)="4",MID((발령대장_입력!$B5&""),8,1)="7",MID((발령대장_입력!$B5&""),8,1)="8"),2000+VALUE(LEFT((발령대장_입력!$B5&""),2)),1800+VALUE(LEFT((발령대장_입력!$B5&""),2))))&". "&VALUE(MID((발령대장_입력!$B5&""),3,2))&". "&VALUE(MID((발령대장_입력!$B5&""),5,2))&".",발령대장_입력!$B5)))))))&")")) | E8: =IF($A8="","",IF(발령대장_입력!$J5<>"",발령대장_입력!$J5,IF(AND(발령대장_입력!$F5="",발령대장_입력!$G5<>""),IF(발령대장_입력!$H5<>"",발령대장_입력!$H5,발령대장_입력!$D5&" 퇴직"),발령대장_입력!$D5&"에 임함"&IF(발령대장_입력!$C5="","",CHAR(10)&"근무부서: "&발령대장_입력!$C5)&IF(발령대장_입력!$E5="","",CHAR(10)&"고용형태: "&발령대장_입력!$E5)&IF(발령대장_입력!$I5="","",CHAR(10)&"소정근로시간: "&발령대장_입력!$I5)&IF(ISNUMBER(발령대장_입력!$F5),CHAR(10)&"근로기간: "&YEAR(발령대장_입력!$F5)&"."&MONTH(발령대장_입력!$F5)&"."&DAY(발령대장_입력!$F5)&"."&" ~ "&IF(ISNUMBER(발령대장_입력!$G5),YEAR(발령대장_입력!$G5)&"."&MONTH(발령대장_입력!$G5)&"."&DAY(발령대장_입력!$G5)&".","재직 중"),"")&IF(발령대장_입력!$H5="","",CHAR(10)&"퇴직사유: "&발령대장_입력!$H5)))) | F8: =IF($A8="","",IF(기본설정·안내!$B$5="","",기본설정·안내!$B$5)) | G8: =IF($A8="","",IF(기본설정·안내!$B$6="","",기본설정·안내!$B$6)) | H8: =IF($A8="","",IF(기본설정·안내!$B$7="","",기본설정·안내!$B$7)) | I8: =IF($A8="","",IF(기본설정·안내!$B$8="","",기본설정·안내!$B$8)) | J8: =IF($A8="","",IF(발령대장_입력!$K5<>"",발령대장_입력!$K5,IF(기본설정·안내!$B$9="","",기본설정·안내!$B$9)))
A9: =IF(OR(발령대장_입력!$A6="",LEFT(발령대장_입력!$A6,2)="예)"),"",IF(ISNUMBER(발령대장_입력!$F6),발령대장_입력!$F6,IF(ISNUMBER(발령대장_입력!$G6),발령대장_입력!$G6,""))) | B9: =IF($A9="","",IF(기본설정·안내!$B$4="","",기본설정·안내!$B$4)) | C9: =IF($A9="","",발령대장_입력!$D6) | D9: =IF($A9="","",발령대장_입력!$A6&IF(발령대장_입력!$B6="","",CHAR(10)&"("&IF(발령대장_입력!$B6="","",IF(AND(ISNUMBER(발령대장_입력!$B6),발령대장_입력!$B6<100000),YEAR(발령대장_입력!$B6)&". "&MONTH(발령대장_입력!$B6)&". "&DAY(발령대장_입력!$B6)&".",IF(LEN((발령대장_입력!$B6&""))=8,LEFT((발령대장_입력!$B6&""),4)&". "&VALUE(MID((발령대장_입력!$B6&""),5,2))&". "&VALUE(RIGHT((발령대장_입력!$B6&""),2))&".",IF(LEN((발령대장_입력!$B6&""))=10,LEFT((발령대장_입력!$B6&""),4)&". "&VALUE(MID((발령대장_입력!$B6&""),6,2))&". "&VALUE(RIGHT((발령대장_입력!$B6&""),2))&".",IF(LEN((발령대장_입력!$B6&""))=6,IF(VALUE(LEFT((발령대장_입력!$B6&""),2))<=MOD(YEAR(TODAY()),100),2000+VALUE(LEFT((발령대장_입력!$B6&""),2)),1900+VALUE(LEFT((발령대장_입력!$B6&""),2)))&". "&VALUE(MID((발령대장_입력!$B6&""),3,2))&". "&VALUE(RIGHT((발령대장_입력!$B6&""),2))&".",IF(LEN((발령대장_입력!$B6&""))=13,IF(OR(MID((발령대장_입력!$B6&""),7,1)="1",MID((발령대장_입력!$B6&""),7,1)="2",MID((발령대장_입력!$B6&""),7,1)="5",MID((발령대장_입력!$B6&""),7,1)="6"),1900+VALUE(LEFT((발령대장_입력!$B6&""),2)),IF(OR(MID((발령대장_입력!$B6&""),7,1)="3",MID((발령대장_입력!$B6&""),7,1)="4",MID((발령대장_입력!$B6&""),7,1)="7",MID((발령대장_입력!$B6&""),7,1)="8"),2000+VALUE(LEFT((발령대장_입력!$B6&""),2)),1800+VALUE(LEFT((발령대장_입력!$B6&""),2))))&". "&VALUE(MID((발령대장_입력!$B6&""),3,2))&". "&VALUE(MID((발령대장_입력!$B6&""),5,2))&".",IF(LEN((발령대장_입력!$B6&""))=14,IF(OR(MID((발령대장_입력!$B6&""),8,1)="1",MID((발령대장_입력!$B6&""),8,1)="2",MID((발령대장_입력!$B6&""),8,1)="5",MID((발령대장_입력!$B6&""),8,1)="6"),1900+VALUE(LEFT((발령대장_입력!$B6&""),2)),IF(OR(MID((발령대장_입력!$B6&""),8,1)="3",MID((발령대장_입력!$B6&""),8,1)="4",MID((발령대장_입력!$B6&""),8,1)="7",MID((발령대장_입력!$B6&""),8,1)="8"),2000+VALUE(LEFT((발령대장_입력!$B6&""),2)),1800+VALUE(LEFT((발령대장_입력!$B6&""),2))))&". "&VALUE(MID((발령대장_입력!$B6&""),3,2))&". "&VALUE(MID((발령대장_입력!$B6&""),5,2))&".",발령대장_입력!$B6)))))))&")")) | E9: =IF($A9="","",IF(발령대장_입력!$J6<>"",발령대장_입력!$J6,IF(AND(발령대장_입력!$F6="",발령대장_입력!$G6<>""),IF(발령대장_입력!$H6<>"",발령대장_입력!$H6,발령대장_입력!$D6&" 퇴직"),발령대장_입력!$D6&"에 임함"&IF(발령대장_입력!$C6="","",CHAR(10)&"근무부서: "&발령대장_입력!$C6)&IF(발령대장_입력!$E6="","",CHAR(10)&"고용형태: "&발령대장_입력!$E6)&IF(발령대장_입력!$I6="","",CHAR(10)&"소정근로시간: "&발령대장_입력!$I6)&IF(ISNUMBER(발령대장_입력!$F6),CHAR(10)&"근로기간: "&YEAR(발령대장_입력!$F6)&"."&MONTH(발령대장_입력!$F6)&"."&DAY(발령대장_입력!$F6)&"."&" ~ "&IF(ISNUMBER(발령대장_입력!$G6),YEAR(발령대장_입력!$G6)&"."&MONTH(발령대장_입력!$G6)&"."&DAY(발령대장_입력!$G6)&".","재직 중"),"")&IF(발령대장_입력!$H6="","",CHAR(10)&"퇴직사유: "&발령대장_입력!$H6)))) | F9: =IF($A9="","",IF(기본설정·안내!$B$5="","",기본설정·안내!$B$5)) | G9: =IF($A9="","",IF(기본설정·안내!$B$6="","",기본설정·안내!$B$6)) | H9: =IF($A9="","",IF(기본설정·안내!$B$7="","",기본설정·안내!$B$7)) | I9: =IF($A9="","",IF(기본설정·안내!$B$8="","",기본설정·안내!$B$8)) | J9: =IF($A9="","",IF(발령대장_입력!$K6<>"",발령대장_입력!$K6,IF(기본설정·안내!$B$9="","",기본설정·안내!$B$9)))
A10: =IF(OR(발령대장_입력!$A7="",LEFT(발령대장_입력!$A7,2)="예)"),"",IF(ISNUMBER(발령대장_입력!$F7),발령대장_입력!$F7,IF(ISNUMBER(발령대장_입력!$G7),발령대장_입력!$G7,""))) | B10: =IF($A10="","",IF(기본설정·안내!$B$4="","",기본설정·안내!$B$4)) | C10: =IF($A10="","",발령대장_입력!$D7) | D10: =IF($A10="","",발령대장_입력!$A7&IF(발령대장_입력!$B7="","",CHAR(10)&"("&IF(발령대장_입력!$B7="","",IF(AND(ISNUMBER(발령대장_입력!$B7),발령대장_입력!$B7<100000),YEAR(발령대장_입력!$B7)&". "&MONTH(발령대장_입력!$B7)&". "&DAY(발령대장_입력!$B7)&".",IF(LEN((발령대장_입력!$B7&""))=8,LEFT((발령대장_입력!$B7&""),4)&". "&VALUE(MID((발령대장_입력!$B7&""),5,2))&". "&VALUE(RIGHT((발령대장_입력!$B7&""),2))&".",IF(LEN((발령대장_입력!$B7&""))=10,LEFT((발령대장_입력!$B7&""),4)&". "&VALUE(MID((발령대장_입력!$B7&""),6,2))&". "&VALUE(RIGHT((발령대장_입력!$B7&""),2))&".",IF(LEN((발령대장_입력!$B7&""))=6,IF(VALUE(LEFT((발령대장_입력!$B7&""),2))<=MOD(YEAR(TODAY()),100),2000+VALUE(LEFT((발령대장_입력!$B7&""),2)),1900+VALUE(LEFT((발령대장_입력!$B7&""),2)))&". "&VALUE(MID((발령대장_입력!$B7&""),3,2))&". "&VALUE(RIGHT((발령대장_입력!$B7&""),2))&".",IF(LEN((발령대장_입력!$B7&""))=13,IF(OR(MID((발령대장_입력!$B7&""),7,1)="1",MID((발령대장_입력!$B7&""),7,1)="2",MID((발령대장_입력!$B7&""),7,1)="5",MID((발령대장_입력!$B7&""),7,1)="6"),1900+VALUE(LEFT((발령대장_입력!$B7&""),2)),IF(OR(MID((발령대장_입력!$B7&""),7,1)="3",MID((발령대장_입력!$B7&""),7,1)="4",MID((발령대장_입력!$B7&""),7,1)="7",MID((발령대장_입력!$B7&""),7,1)="8"),2000+VALUE(LEFT((발령대장_입력!$B7&""),2)),1800+VALUE(LEFT((발령대장_입력!$B7&""),2))))&". "&VALUE(MID((발령대장_입력!$B7&""),3,2))&". "&VALUE(MID((발령대장_입력!$B7&""),5,2))&".",IF(LEN((발령대장_입력!$B7&""))=14,IF(OR(MID((발령대장_입력!$B7&""),8,1)="1",MID((발령대장_입력!$B7&""),8,1)="2",MID((발령대장_입력!$B7&""),8,1)="5",MID((발령대장_입력!$B7&""),8,1)="6"),1900+VALUE(LEFT((발령대장_입력!$B7&""),2)),IF(OR(MID((발령대장_입력!$B7&""),8,1)="3",MID((발령대장_입력!$B7&""),8,1)="4",MID((발령대장_입력!$B7&""),8,1)="7",MID((발령대장_입력!$B7&""),8,1)="8"),2000+VALUE(LEFT((발령대장_입력!$B7&""),2)),1800+VALUE(LEFT((발령대장_입력!$B7&""),2))))&". "&VALUE(MID((발령대장_입력!$B7&""),3,2))&". "&VALUE(MID((발령대장_입력!$B7&""),5,2))&".",발령대장_입력!$B7)))))))&")")) | E10: =IF($A10="","",IF(발령대장_입력!$J7<>"",발령대장_입력!$J7,IF(AND(발령대장_입력!$F7="",발령대장_입력!$G7<>""),IF(발령대장_입력!$H7<>"",발령대장_입력!$H7,발령대장_입력!$D7&" 퇴직"),발령대장_입력!$D7&"에 임함"&IF(발령대장_입력!$C7="","",CHAR(10)&"근무부서: "&발령대장_입력!$C7)&IF(발령대장_입력!$E7="","",CHAR(10)&"고용형태: "&발령대장_입력!$E7)&IF(발령대장_입력!$I7="","",CHAR(10)&"소정근로시간: "&발령대장_입력!$I7)&IF(ISNUMBER(발령대장_입력!$F7),CHAR(10)&"근로기간: "&YEAR(발령대장_입력!$F7)&"."&MONTH(발령대장_입력!$F7)&"."&DAY(발령대장_입력!$F7)&"."&" ~ "&IF(ISNUMBER(발령대장_입력!$G7),YEAR(발령대장_입력!$G7)&"."&MONTH(발령대장_입력!$G7)&"."&DAY(발령대장_입력!$G7)&".","재직 중"),"")&IF(발령대장_입력!$H7="","",CHAR(10)&"퇴직사유: "&발령대장_입력!$H7)))) | F10: =IF($A10="","",IF(기본설정·안내!$B$5="","",기본설정·안내!$B$5)) | G10: =IF($A10="","",IF(기본설정·안내!$B$6="","",기본설정·안내!$B$6)) | H10: =IF($A10="","",IF(기본설정·안내!$B$7="","",기본설정·안내!$B$7)) | I10: =IF($A10="","",IF(기본설정·안내!$B$8="","",기본설정·안내!$B$8)) | J10: =IF($A10="","",IF(발령대장_입력!$K7<>"",발령대장_입력!$K7,IF(기본설정·안내!$B$9="","",기본설정·안내!$B$9)))
A11: =IF(OR(발령대장_입력!$A8="",LEFT(발령대장_입력!$A8,2)="예)"),"",IF(ISNUMBER(발령대장_입력!$F8),발령대장_입력!$F8,IF(ISNUMBER(발령대장_입력!$G8),발령대장_입력!$G8,""))) | B11: =IF($A11="","",IF(기본설정·안내!$B$4="","",기본설정·안내!$B$4)) | C11: =IF($A11="","",발령대장_입력!$D8) | D11: =IF($A11="","",발령대장_입력!$A8&IF(발령대장_입력!$B8="","",CHAR(10)&"("&IF(발령대장_입력!$B8="","",IF(AND(ISNUMBER(발령대장_입력!$B8),발령대장_입력!$B8<100000),YEAR(발령대장_입력!$B8)&". "&MONTH(발령대장_입력!$B8)&". "&DAY(발령대장_입력!$B8)&".",IF(LEN((발령대장_입력!$B8&""))=8,LEFT((발령대장_입력!$B8&""),4)&". "&VALUE(MID((발령대장_입력!$B8&""),5,2))&". "&VALUE(RIGHT((발령대장_입력!$B8&""),2))&".",IF(LEN((발령대장_입력!$B8&""))=10,LEFT((발령대장_입력!$B8&""),4)&". "&VALUE(MID((발령대장_입력!$B8&""),6,2))&". "&VALUE(RIGHT((발령대장_입력!$B8&""),2))&".",IF(LEN((발령대장_입력!$B8&""))=6,IF(VALUE(LEFT((발령대장_입력!$B8&""),2))<=MOD(YEAR(TODAY()),100),2000+VALUE(LEFT((발령대장_입력!$B8&""),2)),1900+VALUE(LEFT((발령대장_입력!$B8&""),2)))&". "&VALUE(MID((발령대장_입력!$B8&""),3,2))&". "&VALUE(RIGHT((발령대장_입력!$B8&""),2))&".",IF(LEN((발령대장_입력!$B8&""))=13,IF(OR(MID((발령대장_입력!$B8&""),7,1)="1",MID((발령대장_입력!$B8&""),7,1)="2",MID((발령대장_입력!$B8&""),7,1)="5",MID((발령대장_입력!$B8&""),7,1)="6"),1900+VALUE(LEFT((발령대장_입력!$B8&""),2)),IF(OR(MID((발령대장_입력!$B8&""),7,1)="3",MID((발령대장_입력!$B8&""),7,1)="4",MID((발령대장_입력!$B8&""),7,1)="7",MID((발령대장_입력!$B8&""),7,1)="8"),2000+VALUE(LEFT((발령대장_입력!$B8&""),2)),1800+VALUE(LEFT((발령대장_입력!$B8&""),2))))&". "&VALUE(MID((발령대장_입력!$B8&""),3,2))&". "&VALUE(MID((발령대장_입력!$B8&""),5,2))&".",IF(LEN((발령대장_입력!$B8&""))=14,IF(OR(MID((발령대장_입력!$B8&""),8,1)="1",MID((발령대장_입력!$B8&""),8,1)="2",MID((발령대장_입력!$B8&""),8,1)="5",MID((발령대장_입력!$B8&""),8,1)="6"),1900+VALUE(LEFT((발령대장_입력!$B8&""),2)),IF(OR(MID((발령대장_입력!$B8&""),8,1)="3",MID((발령대장_입력!$B8&""),8,1)="4",MID((발령대장_입력!$B8&""),8,1)="7",MID((발령대장_입력!$B8&""),8,1)="8"),2000+VALUE(LEFT((발령대장_입력!$B8&""),2)),1800+VALUE(LEFT((발령대장_입력!$B8&""),2))))&". "&VALUE(MID((발령대장_입력!$B8&""),3,2))&". "&VALUE(MID((발령대장_입력!$B8&""),5,2))&".",발령대장_입력!$B8)))))))&")")) | E11: =IF($A11="","",IF(발령대장_입력!$J8<>"",발령대장_입력!$J8,IF(AND(발령대장_입력!$F8="",발령대장_입력!$G8<>""),IF(발령대장_입력!$H8<>"",발령대장_입력!$H8,발령대장_입력!$D8&" 퇴직"),발령대장_입력!$D8&"에 임함"&IF(발령대장_입력!$C8="","",CHAR(10)&"근무부서: "&발령대장_입력!$C8)&IF(발령대장_입력!$E8="","",CHAR(10)&"고용형태: "&발령대장_입력!$E8)&IF(발령대장_입력!$I8="","",CHAR(10)&"소정근로시간: "&발령대장_입력!$I8)&IF(ISNUMBER(발령대장_입력!$F8),CHAR(10)&"근로기간: "&YEAR(발령대장_입력!$F8)&"."&MONTH(발령대장_입력!$F8)&"."&DAY(발령대장_입력!$F8)&"."&" ~ "&IF(ISNUMBER(발령대장_입력!$G8),YEAR(발령대장_입력!$G8)&"."&MONTH(발령대장_입력!$G8)&"."&DAY(발령대장_입력!$G8)&".","재직 중"),"")&IF(발령대장_입력!$H8="","",CHAR(10)&"퇴직사유: "&발령대장_입력!$H8)))) | F11: =IF($A11="","",IF(기본설정·안내!$B$5="","",기본설정·안내!$B$5)) | G11: =IF($A11="","",IF(기본설정·안내!$B$6="","",기본설정·안내!$B$6)) | H11: =IF($A11="","",IF(기본설정·안내!$B$7="","",기본설정·안내!$B$7)) | I11: =IF($A11="","",IF(기본설정·안내!$B$8="","",기본설정·안내!$B$8)) | J11: =IF($A11="","",IF(발령대장_입력!$K8<>"",발령대장_입력!$K8,IF(기본설정·안내!$B$9="","",기본설정·안내!$B$9)))
A12: =IF(OR(발령대장_입력!$A9="",LEFT(발령대장_입력!$A9,2)="예)"),"",IF(ISNUMBER(발령대장_입력!$F9),발령대장_입력!$F9,IF(ISNUMBER(발령대장_입력!$G9),발령대장_입력!$G9,""))) | B12: =IF($A12="","",IF(기본설정·안내!$B$4="","",기본설정·안내!$B$4)) | C12: =IF($A12="","",발령대장_입력!$D9) | D12: =IF($A12="","",발령대장_입력!$A9&IF(발령대장_입력!$B9="","",CHAR(10)&"("&IF(발령대장_입력!$B9="","",IF(AND(ISNUMBER(발령대장_입력!$B9),발령대장_입력!$B9<100000),YEAR(발령대장_입력!$B9)&". "&MONTH(발령대장_입력!$B9)&". "&DAY(발령대장_입력!$B9)&".",IF(LEN((발령대장_입력!$B9&""))=8,LEFT((발령대장_입력!$B9&""),4)&". "&VALUE(MID((발령대장_입력!$B9&""),5,2))&". "&VALUE(RIGHT((발령대장_입력!$B9&""),2))&".",IF(LEN((발령대장_입력!$B9&""))=10,LEFT((발령대장_입력!$B9&""),4)&". "&VALUE(MID((발령대장_입력!$B9&""),6,2))&". "&VALUE(RIGHT((발령대장_입력!$B9&""),2))&".",IF(LEN((발령대장_입력!$B9&""))=6,IF(VALUE(LEFT((발령대장_입력!$B9&""),2))<=MOD(YEAR(TODAY()),100),2000+VALUE(LEFT((발령대장_입력!$B9&""),2)),1900+VALUE(LEFT((발령대장_입력!$B9&""),2)))&". "&VALUE(MID((발령대장_입력!$B9&""),3,2))&". "&VALUE(RIGHT((발령대장_입력!$B9&""),2))&".",IF(LEN((발령대장_입력!$B9&""))=13,IF(OR(MID((발령대장_입력!$B9&""),7,1)="1",MID((발령대장_입력!$B9&""),7,1)="2",MID((발령대장_입력!$B9&""),7,1)="5",MID((발령대장_입력!$B9&""),7,1)="6"),1900+VALUE(LEFT((발령대장_입력!$B9&""),2)),IF(OR(MID((발령대장_입력!$B9&""),7,1)="3",MID((발령대장_입력!$B9&""),7,1)="4",MID((발령대장_입력!$B9&""),7,1)="7",MID((발령대장_입력!$B9&""),7,1)="8"),2000+VALUE(LEFT((발령대장_입력!$B9&""),2)),1800+VALUE(LEFT((발령대장_입력!$B9&""),2))))&". "&VALUE(MID((발령대장_입력!$B9&""),3,2))&". "&VALUE(MID((발령대장_입력!$B9&""),5,2))&".",IF(LEN((발령대장_입력!$B9&""))=14,IF(OR(MID((발령대장_입력!$B9&""),8,1)="1",MID((발령대장_입력!$B9&""),8,1)="2",MID((발령대장_입력!$B9&""),8,1)="5",MID((발령대장_입력!$B9&""),8,1)="6"),1900+VALUE(LEFT((발령대장_입력!$B9&""),2)),IF(OR(MID((발령대장_입력!$B9&""),8,1)="3",MID((발령대장_입력!$B9&""),8,1)="4",MID((발령대장_입력!$B9&""),8,1)="7",MID((발령대장_입력!$B9&""),8,1)="8"),2000+VALUE(LEFT((발령대장_입력!$B9&""),2)),1800+VALUE(LEFT((발령대장_입력!$B9&""),2))))&". "&VALUE(MID((발령대장_입력!$B9&""),3,2))&". "&VALUE(MID((발령대장_입력!$B9&""),5,2))&".",발령대장_입력!$B9)))))))&")")) | E12: =IF($A12="","",IF(발령대장_입력!$J9<>"",발령대장_입력!$J9,IF(AND(발령대장_입력!$F9="",발령대장_입력!$G9<>""),IF(발령대장_입력!$H9<>"",발령대장_입력!$H9,발령대장_입력!$D9&" 퇴직"),발령대장_입력!$D9&"에 임함"&IF(발령대장_입력!$C9="","",CHAR(10)&"근무부서: "&발령대장_입력!$C9)&IF(발령대장_입력!$E9="","",CHAR(10)&"고용형태: "&발령대장_입력!$E9)&IF(발령대장_입력!$I9="","",CHAR(10)&"소정근로시간: "&발령대장_입력!$I9)&IF(ISNUMBER(발령대장_입력!$F9),CHAR(10)&"근로기간: "&YEAR(발령대장_입력!$F9)&"."&MONTH(발령대장_입력!$F9)&"."&DAY(발령대장_입력!$F9)&"."&" ~ "&IF(ISNUMBER(발령대장_입력!$G9),YEAR(발령대장_입력!$G9)&"."&MONTH(발령대장_입력!$G9)&"."&DAY(발령대장_입력!$G9)&".","재직 중"),"")&IF(발령대장_입력!$H9="","",CHAR(10)&"퇴직사유: "&발령대장_입력!$H9)))) | F12: =IF($A12="","",IF(기본설정·안내!$B$5="","",기본설정·안내!$B$5)) | G12: =IF($A12="","",IF(기본설정·안내!$B$6="","",기본설정·안내!$B$6)) | H12: =IF($A12="","",IF(기본설정·안내!$B$7="","",기본설정·안내!$B$7)) | I12: =IF($A12="","",IF(기본설정·안내!$B$8="","",기본설정·안내!$B$8)) | J12: =IF($A12="","",IF(발령대장_입력!$K9<>"",발령대장_입력!$K9,IF(기본설정·안내!$B$9="","",기본설정·안내!$B$9)))
A13: =IF(OR(발령대장_입력!$A10="",LEFT(발령대장_입력!$A10,2)="예)"),"",IF(ISNUMBER(발령대장_입력!$F10),발령대장_입력!$F10,IF(ISNUMBER(발령대장_입력!$G10),발령대장_입력!$G10,""))) | B13: =IF($A13="","",IF(기본설정·안내!$B$4="","",기본설정·안내!$B$4)) | C13: =IF($A13="","",발령대장_입력!$D10) | D13: =IF($A13="","",발령대장_입력!$A10&IF(발령대장_입력!$B10="","",CHAR(10)&"("&IF(발령대장_입력!$B10="","",IF(AND(ISNUMBER(발령대장_입력!$B10),발령대장_입력!$B10<100000),YEAR(발령대장_입력!$B10)&". "&MONTH(발령대장_입력!$B10)&". "&DAY(발령대장_입력!$B10)&".",IF(LEN((발령대장_입력!$B10&""))=8,LEFT((발령대장_입력!$B10&""),4)&". "&VALUE(MID((발령대장_입력!$B10&""),5,2))&". "&VALUE(RIGHT((발령대장_입력!$B10&""),2))&".",IF(LEN((발령대장_입력!$B10&""))=10,LEFT((발령대장_입력!$B10&""),4)&". "&VALUE(MID((발령대장_입력!$B10&""),6,2))&". "&VALUE(RIGHT((발령대장_입력!$B10&""),2))&".",IF(LEN((발령대장_입력!$B10&""))=6,IF(VALUE(LEFT((발령대장_입력!$B10&""),2))<=MOD(YEAR(TODAY()),100),2000+VALUE(LEFT((발령대장_입력!$B10&""),2)),1900+VALUE(LEFT((발령대장_입력!$B10&""),2)))&". "&VALUE(MID((발령대장_입력!$B10&""),3,2))&". "&VALUE(RIGHT((발령대장_입력!$B10&""),2))&".",IF(LEN((발령대장_입력!$B10&""))=13,IF(OR(MID((발령대장_입력!$B10&""),7,1)="1",MID((발령대장_입력!$B10&""),7,1)="2",MID((발령대장_입력!$B10&""),7,1)="5",MID((발령대장_입력!$B10&""),7,1)="6"),1900+VALUE(LEFT((발령대장_입력!$B10&""),2)),IF(OR(MID((발령대장_입력!$B10&""),7,1)="3",MID((발령대장_입력!$B10&""),7,1)="4",MID((발령대장_입력!$B10&""),7,1)="7",MID((발령대장_입력!$B10&""),7,1)="8"),2000+VALUE(LEFT((발령대장_입력!$B10&""),2)),1800+VALUE(LEFT((발령대장_입력!$B10&""),2))))&". "&VALUE(MID((발령대장_입력!$B10&""),3,2))&". "&VALUE(MID((발령대장_입력!$B10&""),5,2))&".",IF(LEN((발령대장_입력!$B10&""))=14,IF(OR(MID((발령대장_입력!$B10&""),8,1)="1",MID((발령대장_입력!$B10&""),8,1)="2",MID((발령대장_입력!$B10&""),8,1)="5",MID((발령대장_입력!$B10&""),8,1)="6"),1900+VALUE(LEFT((발령대장_입력!$B10&""),2)),IF(OR(MID((발령대장_입력!$B10&""),8,1)="3",MID((발령대장_입력!$B10&""),8,1)="4",MID((발령대장_입력!$B10&""),8,1)="7",MID((발령대장_입력!$B10&""),8,1)="8"),2000+VALUE(LEFT((발령대장_입력!$B10&""),2)),1800+VALUE(LEFT((발령대장_입력!$B10&""),2))))&". "&VALUE(MID((발령대장_입력!$B10&""),3,2))&". "&VALUE(MID((발령대장_입력!$B10&""),5,2))&".",발령대장_입력!$B10)))))))&")")) | E13: =IF($A13="","",IF(발령대장_입력!$J10<>"",발령대장_입력!$J10,IF(AND(발령대장_입력!$F10="",발령대장_입력!$G10<>""),IF(발령대장_입력!$H10<>"",발령대장_입력!$H10,발령대장_입력!$D10&" 퇴직"),발령대장_입력!$D10&"에 임함"&IF(발령대장_입력!$C10="","",CHAR(10)&"근무부서: "&발령대장_입력!$C10)&IF(발령대장_입력!$E10="","",CHAR(10)&"고용형태: "&발령대장_입력!$E10)&IF(발령대장_입력!$I10="","",CHAR(10)&"소정근로시간: "&발령대장_입력!$I10)&IF(ISNUMBER(발령대장_입력!$F10),CHAR(10)&"근로기간: "&YEAR(발령대장_입력!$F10)&"."&MONTH(발령대장_입력!$F10)&"."&DAY(발령대장_입력!$F10)&"."&" ~ "&IF(ISNUMBER(발령대장_입력!$G10),YEAR(발령대장_입력!$G10)&"."&MONTH(발령대장_입력!$G10)&"."&DAY(발령대장_입력!$G10)&".","재직 중"),"")&IF(발령대장_입력!$H10="","",CHAR(10)&"퇴직사유: "&발령대장_입력!$H10)))) | F13: =IF($A13="","",IF(기본설정·안내!$B$5="","",기본설정·안내!$B$5)) | G13: =IF($A13="","",IF(기본설정·안내!$B$6="","",기본설정·안내!$B$6)) | H13: =IF($A13="","",IF(기본설정·안내!$B$7="","",기본설정·안내!$B$7)) | I13: =IF($A13="","",IF(기본설정·안내!$B$8="","",기본설정·안내!$B$8)) | J13: =IF($A13="","",IF(발령대장_입력!$K10<>"",발령대장_입력!$K10,IF(기본설정·안내!$B$9="","",기본설정·안내!$B$9)))
A14: =IF(OR(발령대장_입력!$A11="",LEFT(발령대장_입력!$A11,2)="예)"),"",IF(ISNUMBER(발령대장_입력!$F11),발령대장_입력!$F11,IF(ISNUMBER(발령대장_입력!$G11),발령대장_입력!$G11,""))) | B14: =IF($A14="","",IF(기본설정·안내!$B$4="","",기본설정·안내!$B$4)) | C14: =IF($A14="","",발령대장_입력!$D11) | D14: =IF($A14="","",발령대장_입력!$A11&IF(발령대장_입력!$B11="","",CHAR(10)&"("&IF(발령대장_입력!$B11="","",IF(AND(ISNUMBER(발령대장_입력!$B11),발령대장_입력!$B11<100000),YEAR(발령대장_입력!$B11)&". "&MONTH(발령대장_입력!$B11)&". "&DAY(발령대장_입력!$B11)&".",IF(LEN((발령대장_입력!$B11&""))=8,LEFT((발령대장_입력!$B11&""),4)&". "&VALUE(MID((발령대장_입력!$B11&""),5,2))&". "&VALUE(RIGHT((발령대장_입력!$B11&""),2))&".",IF(LEN((발령대장_입력!$B11&""))=10,LEFT((발령대장_입력!$B11&""),4)&". "&VALUE(MID((발령대장_입력!$B11&""),6,2))&". "&VALUE(RIGHT((발령대장_입력!$B11&""),2))&".",IF(LEN((발령대장_입력!$B11&""))=6,IF(VALUE(LEFT((발령대장_입력!$B11&""),2))<=MOD(YEAR(TODAY()),100),2000+VALUE(LEFT((발령대장_입력!$B11&""),2)),1900+VALUE(LEFT((발령대장_입력!$B11&""),2)))&". "&VALUE(MID((발령대장_입력!$B11&""),3,2))&". "&VALUE(RIGHT((발령대장_입력!$B11&""),2))&".",IF(LEN((발령대장_입력!$B11&""))=13,IF(OR(MID((발령대장_입력!$B11&""),7,1)="1",MID((발령대장_입력!$B11&""),7,1)="2",MID((발령대장_입력!$B11&""),7,1)="5",MID((발령대장_입력!$B11&""),7,1)="6"),1900+VALUE(LEFT((발령대장_입력!$B11&""),2)),IF(OR(MID((발령대장_입력!$B11&""),7,1)="3",MID((발령대장_입력!$B11&""),7,1)="4",MID((발령대장_입력!$B11&""),7,1)="7",MID((발령대장_입력!$B11&""),7,1)="8"),2000+VALUE(LEFT((발령대장_입력!$B11&""),2)),1800+VALUE(LEFT((발령대장_입력!$B11&""),2))))&". "&VALUE(MID((발령대장_입력!$B11&""),3,2))&". "&VALUE(MID((발령대장_입력!$B11&""),5,2))&".",IF(LEN((발령대장_입력!$B11&""))=14,IF(OR(MID((발령대장_입력!$B11&""),8,1)="1",MID((발령대장_입력!$B11&""),8,1)="2",MID((발령대장_입력!$B11&""),8,1)="5",MID((발령대장_입력!$B11&""),8,1)="6"),1900+VALUE(LEFT((발령대장_입력!$B11&""),2)),IF(OR(MID((발령대장_입력!$B11&""),8,1)="3",MID((발령대장_입력!$B11&""),8,1)="4",MID((발령대장_입력!$B11&""),8,1)="7",MID((발령대장_입력!$B11&""),8,1)="8"),2000+VALUE(LEFT((발령대장_입력!$B11&""),2)),1800+VALUE(LEFT((발령대장_입력!$B11&""),2))))&". "&VALUE(MID((발령대장_입력!$B11&""),3,2))&". "&VALUE(MID((발령대장_입력!$B11&""),5,2))&".",발령대장_입력!$B11)))))))&")")) | E14: =IF($A14="","",IF(발령대장_입력!$J11<>"",발령대장_입력!$J11,IF(AND(발령대장_입력!$F11="",발령대장_입력!$G11<>""),IF(발령대장_입력!$H11<>"",발령대장_입력!$H11,발령대장_입력!$D11&" 퇴직"),발령대장_입력!$D11&"에 임함"&IF(발령대장_입력!$C11="","",CHAR(10)&"근무부서: "&발령대장_입력!$C11)&IF(발령대장_입력!$E11="","",CHAR(10)&"고용형태: "&발령대장_입력!$E11)&IF(발령대장_입력!$I11="","",CHAR(10)&"소정근로시간: "&발령대장_입력!$I11)&IF(ISNUMBER(발령대장_입력!$F11),CHAR(10)&"근로기간: "&YEAR(발령대장_입력!$F11)&"."&MONTH(발령대장_입력!$F11)&"."&DAY(발령대장_입력!$F11)&"."&" ~ "&IF(ISNUMBER(발령대장_입력!$G11),YEAR(발령대장_입력!$G11)&"."&MONTH(발령대장_입력!$G11)&"."&DAY(발령대장_입력!$G11)&".","재직 중"),"")&IF(발령대장_입력!$H11="","",CHAR(10)&"퇴직사유: "&발령대장_입력!$H11)))) | F14: =IF($A14="","",IF(기본설정·안내!$B$5="","",기본설정·안내!$B$5)) | G14: =IF($A14="","",IF(기본설정·안내!$B$6="","",기본설정·안내!$B$6)) | H14: =IF($A14="","",IF(기본설정·안내!$B$7="","",기본설정·안내!$B$7)) | I14: =IF($A14="","",IF(기본설정·안내!$B$8="","",기본설정·안내!$B$8)) | J14: =IF($A14="","",IF(발령대장_입력!$K11<>"",발령대장_입력!$K11,IF(기본설정·안내!$B$9="","",기본설정·안내!$B$9)))
A15: =IF(OR(발령대장_입력!$A12="",LEFT(발령대장_입력!$A12,2)="예)"),"",IF(ISNUMBER(발령대장_입력!$F12),발령대장_입력!$F12,IF(ISNUMBER(발령대장_입력!$G12),발령대장_입력!$G12,""))) | B15: =IF($A15="","",IF(기본설정·안내!$B$4="","",기본설정·안내!$B$4)) | C15: =IF($A15="","",발령대장_입력!$D12) | D15: =IF($A15="","",발령대장_입력!$A12&IF(발령대장_입력!$B12="","",CHAR(10)&"("&IF(발령대장_입력!$B12="","",IF(AND(ISNUMBER(발령대장_입력!$B12),발령대장_입력!$B12<100000),YEAR(발령대장_입력!$B12)&". "&MONTH(발령대장_입력!$B12)&". "&DAY(발령대장_입력!$B12)&".",IF(LEN((발령대장_입력!$B12&""))=8,LEFT((발령대장_입력!$B12&""),4)&". "&VALUE(MID((발령대장_입력!$B12&""),5,2))&". "&VALUE(RIGHT((발령대장_입력!$B12&""),2))&".",IF(LEN((발령대장_입력!$B12&""))=10,LEFT((발령대장_입력!$B12&""),4)&". "&VALUE(MID((발령대장_입력!$B12&""),6,2))&". "&VALUE(RIGHT((발령대장_입력!$B12&""),2))&".",IF(LEN((발령대장_입력!$B12&""))=6,IF(VALUE(LEFT((발령대장_입력!$B12&""),2))<=MOD(YEAR(TODAY()),100),2000+VALUE(LEFT((발령대장_입력!$B12&""),2)),1900+VALUE(LEFT((발령대장_입력!$B12&""),2)))&". "&VALUE(MID((발령대장_입력!$B12&""),3,2))&". "&VALUE(RIGHT((발령대장_입력!$B12&""),2))&".",IF(LEN((발령대장_입력!$B12&""))=13,IF(OR(MID((발령대장_입력!$B12&""),7,1)="1",MID((발령대장_입력!$B12&""),7,1)="2",MID((발령대장_입력!$B12&""),7,1)="5",MID((발령대장_입력!$B12&""),7,1)="6"),1900+VALUE(LEFT((발령대장_입력!$B12&""),2)),IF(OR(MID((발령대장_입력!$B12&""),7,1)="3",MID((발령대장_입력!$B12&""),7,1)="4",MID((발령대장_입력!$B12&""),7,1)="7",MID((발령대장_입력!$B12&""),7,1)="8"),2000+VALUE(LEFT((발령대장_입력!$B12&""),2)),1800+VALUE(LEFT((발령대장_입력!$B12&""),2))))&". "&VALUE(MID((발령대장_입력!$B12&""),3,2))&". "&VALUE(MID((발령대장_입력!$B12&""),5,2))&".",IF(LEN((발령대장_입력!$B12&""))=14,IF(OR(MID((발령대장_입력!$B12&""),8,1)="1",MID((발령대장_입력!$B12&""),8,1)="2",MID((발령대장_입력!$B12&""),8,1)="5",MID((발령대장_입력!$B12&""),8,1)="6"),1900+VALUE(LEFT((발령대장_입력!$B12&""),2)),IF(OR(MID((발령대장_입력!$B12&""),8,1)="3",MID((발령대장_입력!$B12&""),8,1)="4",MID((발령대장_입력!$B12&""),8,1)="7",MID((발령대장_입력!$B12&""),8,1)="8"),2000+VALUE(LEFT((발령대장_입력!$B12&""),2)),1800+VALUE(LEFT((발령대장_입력!$B12&""),2))))&". "&VALUE(MID((발령대장_입력!$B12&""),3,2))&". "&VALUE(MID((발령대장_입력!$B12&""),5,2))&".",발령대장_입력!$B12)))))))&")")) | E15: =IF($A15="","",IF(발령대장_입력!$J12<>"",발령대장_입력!$J12,IF(AND(발령대장_입력!$F12="",발령대장_입력!$G12<>""),IF(발령대장_입력!$H12<>"",발령대장_입력!$H12,발령대장_입력!$D12&" 퇴직"),발령대장_입력!$D12&"에 임함"&IF(발령대장_입력!$C12="","",CHAR(10)&"근무부서: "&발령대장_입력!$C12)&IF(발령대장_입력!$E12="","",CHAR(10)&"고용형태: "&발령대장_입력!$E12)&IF(발령대장_입력!$I12="","",CHAR(10)&"소정근로시간: "&발령대장_입력!$I12)&IF(ISNUMBER(발령대장_입력!$F12),CHAR(10)&"근로기간: "&YEAR(발령대장_입력!$F12)&"."&MONTH(발령대장_입력!$F12)&"."&DAY(발령대장_입력!$F12)&"."&" ~ "&IF(ISNUMBER(발령대장_입력!$G12),YEAR(발령대장_입력!$G12)&"."&MONTH(발령대장_입력!$G12)&"."&DAY(발령대장_입력!$G12)&".","재직 중"),"")&IF(발령대장_입력!$H12="","",CHAR(10)&"퇴직사유: "&발령대장_입력!$H12)))) | F15: =IF($A15="","",IF(기본설정·안내!$B$5="","",기본설정·안내!$B$5)) | G15: =IF($A15="","",IF(기본설정·안내!$B$6="","",기본설정·안내!$B$6)) | H15: =IF($A15="","",IF(기본설정·안내!$B$7="","",기본설정·안내!$B$7)) | I15: =IF($A15="","",IF(기본설정·안내!$B$8="","",기본설정·안내!$B$8)) | J15: =IF($A15="","",IF(발령대장_입력!$K12<>"",발령대장_입력!$K12,IF(기본설정·안내!$B$9="","",기본설정·안내!$B$9)))
A16: =IF(OR(발령대장_입력!$A13="",LEFT(발령대장_입력!$A13,2)="예)"),"",IF(ISNUMBER(발령대장_입력!$F13),발령대장_입력!$F13,IF(ISNUMBER(발령대장_입력!$G13),발령대장_입력!$G13,""))) | B16: =IF($A16="","",IF(기본설정·안내!$B$4="","",기본설정·안내!$B$4)) | C16: =IF($A16="","",발령대장_입력!$D13) | D16: =IF($A16="","",발령대장_입력!$A13&IF(발령대장_입력!$B13="","",CHAR(10)&"("&IF(발령대장_입력!$B13="","",IF(AND(ISNUMBER(발령대장_입력!$B13),발령대장_입력!$B13<100000),YEAR(발령대장_입력!$B13)&". "&MONTH(발령대장_입력!$B13)&". "&DAY(발령대장_입력!$B13)&".",IF(LEN((발령대장_입력!$B13&""))=8,LEFT((발령대장_입력!$B13&""),4)&". "&VALUE(MID((발령대장_입력!$B13&""),5,2))&". "&VALUE(RIGHT((발령대장_입력!$B13&""),2))&".",IF(LEN((발령대장_입력!$B13&""))=10,LEFT((발령대장_입력!$B13&""),4)&". "&VALUE(MID((발령대장_입력!$B13&""),6,2))&". "&VALUE(RIGHT((발령대장_입력!$B13&""),2))&".",IF(LEN((발령대장_입력!$B13&""))=6,IF(VALUE(LEFT((발령대장_입력!$B13&""),2))<=MOD(YEAR(TODAY()),100),2000+VALUE(LEFT((발령대장_입력!$B13&""),2)),1900+VALUE(LEFT((발령대장_입력!$B13&""),2)))&". "&VALUE(MID((발령대장_입력!$B13&""),3,2))&". "&VALUE(RIGHT((발령대장_입력!$B13&""),2))&".",IF(LEN((발령대장_입력!$B13&""))=13,IF(OR(MID((발령대장_입력!$B13&""),7,1)="1",MID((발령대장_입력!$B13&""),7,1)="2",MID((발령대장_입력!$B13&""),7,1)="5",MID((발령대장_입력!$B13&""),7,1)="6"),1900+VALUE(LEFT((발령대장_입력!$B13&""),2)),IF(OR(MID((발령대장_입력!$B13&""),7,1)="3",MID((발령대장_입력!$B13&""),7,1)="4",MID((발령대장_입력!$B13&""),7,1)="7",MID((발령대장_입력!$B13&""),7,1)="8"),2000+VALUE(LEFT((발령대장_입력!$B13&""),2)),1800+VALUE(LEFT((발령대장_입력!$B13&""),2))))&". "&VALUE(MID((발령대장_입력!$B13&""),3,2))&". "&VALUE(MID((발령대장_입력!$B13&""),5,2))&".",IF(LEN((발령대장_입력!$B13&""))=14,IF(OR(MID((발령대장_입력!$B13&""),8,1)="1",MID((발령대장_입력!$B13&""),8,1)="2",MID((발령대장_입력!$B13&""),8,1)="5",MID((발령대장_입력!$B13&""),8,1)="6"),1900+VALUE(LEFT((발령대장_입력!$B13&""),2)),IF(OR(MID((발령대장_입력!$B13&""),8,1)="3",MID((발령대장_입력!$B13&""),8,1)="4",MID((발령대장_입력!$B13&""),8,1)="7",MID((발령대장_입력!$B13&""),8,1)="8"),2000+VALUE(LEFT((발령대장_입력!$B13&""),2)),1800+VALUE(LEFT((발령대장_입력!$B13&""),2))))&". "&VALUE(MID((발령대장_입력!$B13&""),3,2))&". "&VALUE(MID((발령대장_입력!$B13&""),5,2))&".",발령대장_입력!$B13)))))))&")")) | E16: =IF($A16="","",IF(발령대장_입력!$J13<>"",발령대장_입력!$J13,IF(AND(발령대장_입력!$F13="",발령대장_입력!$G13<>""),IF(발령대장_입력!$H13<>"",발령대장_입력!$H13,발령대장_입력!$D13&" 퇴직"),발령대장_입력!$D13&"에 임함"&IF(발령대장_입력!$C13="","",CHAR(10)&"근무부서: "&발령대장_입력!$C13)&IF(발령대장_입력!$E13="","",CHAR(10)&"고용형태: "&발령대장_입력!$E13)&IF(발령대장_입력!$I13="","",CHAR(10)&"소정근로시간: "&발령대장_입력!$I13)&IF(ISNUMBER(발령대장_입력!$F13),CHAR(10)&"근로기간: "&YEAR(발령대장_입력!$F13)&"."&MONTH(발령대장_입력!$F13)&"."&DAY(발령대장_입력!$F13)&"."&" ~ "&IF(ISNUMBER(발령대장_입력!$G13),YEAR(발령대장_입력!$G13)&"."&MONTH(발령대장_입력!$G13)&"."&DAY(발령대장_입력!$G13)&".","재직 중"),"")&IF(발령대장_입력!$H13="","",CHAR(10)&"퇴직사유: "&발령대장_입력!$H13)))) | F16: =IF($A16="","",IF(기본설정·안내!$B$5="","",기본설정·안내!$B$5)) | G16: =IF($A16="","",IF(기본설정·안내!$B$6="","",기본설정·안내!$B$6)) | H16: =IF($A16="","",IF(기본설정·안내!$B$7="","",기본설정·안내!$B$7)) | I16: =IF($A16="","",IF(기본설정·안내!$B$8="","",기본설정·안내!$B$8)) | J16: =IF($A16="","",IF(발령대장_입력!$K13<>"",발령대장_입력!$K13,IF(기본설정·안내!$B$9="","",기본설정·안내!$B$9)))
... A504: =IF(OR(발령대장_입력!$A501="",LEFT(발령대장_입력!$A501,2)="예)"),"",IF(ISNUMBER(발령대장_입력!$F501),발령대장_입력!$F501,IF(ISNUMBER(발령대장_입력!$G501),발령대장_입력!$G501,""))) | B504: =IF($A504="","",IF(기본설정·안내!$B$4="","",기본설정·안내!$B$4)) | C504: =IF($A504="","",발령대장_입력!$D501) | D504: =IF($A504="","",발령대장_입력!$A501&IF(발령대장_입력!$B501="","",CHAR(10)&"("&IF(발령대장_입력!$B501="","",IF(AND(ISNUMBER(발령대장_입력!$B501),발령대장_입력!$B501<100000),YEAR(발령대장_입력!$B501)&". "&MONTH(발령대장_입력!$B501)&". "&DAY(발령대장_입력!$B501)&".",IF(LEN((발령대장_입력!$B501&""))=8,LEFT((발령대장_입력!$B501&""),4)&". "&VALUE(MID((발령대장_입력!$B501&""),5,2))&". "&VALUE(RIGHT((발령대장_입력!$B501&""),2))&".",IF(LEN((발령대장_입력!$B501&""))=10,LEFT((발령대장_입력!$B501&""),4)&". "&VALUE(MID((발령대장_입력!$B501&""),6,2))&". "&VALUE(RIGHT((발령대장_입력!$B501&""),2))&".",IF(LEN((발령대장_입력!$B501&""))=6,IF(VALUE(LEFT((발령대장_입력!$B501&""),2))<=MOD(YEAR(TODAY()),100),2000+VALUE(LEFT((발령대장_입력!$B501&""),2)),1900+VALUE(LEFT((발령대장_입력!$B501&""),2)))&". "&VALUE(MID((발령대장_입력!$B501&""),3,2))&". "&VALUE(RIGHT((발령대장_입력!$B501&""),2))&".",IF(LEN((발령대장_입력!$B501&""))=13,IF(OR(MID((발령대장_입력!$B501&""),7,1)="1",MID((발령대장_입력!$B501&""),7,1)="2",MID((발령대장_입력!$B501&""),7,1)="5",MID((발령대장_입력!$B501&""),7,1)="6"),1900+VALUE(LEFT((발령대장_입력!$B501&""),2)),IF(OR(MID((발령대장_입력!$B501&""),7,1)="3",MID((발령대장_입력!$B501&""),7,1)="4",MID((발령대장_입력!$B501&""),7,1)="7",MID((발령대장_입력!$B501&""),7,1)="8"),2000+VALUE(LEFT((발령대장_입력!$B501&""),2)),1800+VALUE(LEFT((발령대장_입력!$B501&""),2))))&". "&VALUE(MID((발령대장_입력!$B501&""),3,2))&". "&VALUE(MID((발령대장_입력!$B501&""),5,2))&".",IF(LEN((발령대장_입력!$B501&""))=14,IF(OR(MID((발령대장_입력!$B501&""),8,1)="1",MID((발령대장_입력!$B501&""),8,1)="2",MID((발령대장_입력!$B501&""),8,1)="5",MID((발령대장_입력!$B501&""),8,1)="6"),1900+VALUE(LEFT((발령대장_입력!$B501&""),2)),IF(OR(MID((발령대장_입력!$B501&""),8,1)="3",MID((발령대장_입력!$B501&""),8,1)="4",MID((발령대장_입력!$B501&""),8,1)="7",MID((발령대장_입력!$B501&""),8,1)="8"),2000+VALUE(LEFT((발령대장_입력!$B501&""),2)),1800+VALUE(LEFT((발령대장_입력!$B501&""),2))))&". "&VALUE(MID((발령대장_입력!$B501&""),3,2))&". "&VALUE(MID((발령대장_입력!$B501&""),5,2))&".",발령대장_입력!$B501)))))))&")")) | E504: =IF($A504="","",IF(발령대장_입력!$J501<>"",발령대장_입력!$J501,IF(AND(발령대장_입력!$F501="",발령대장_입력!$G501<>""),IF(발령대장_입력!$H501<>"",발령대장_입력!$H501,발령대장_입력!$D501&" 퇴직"),발령대장_입력!$D501&"에 임함"&IF(발령대장_입력!$C501="","",CHAR(10)&"근무부서: "&발령대장_입력!$C501)&IF(발령대장_입력!$E501="","",CHAR(10)&"고용형태: "&발령대장_입력!$E501)&IF(발령대장_입력!$I501="","",CHAR(10)&"소정근로시간: "&발령대장_입력!$I501)&IF(ISNUMBER(발령대장_입력!$F501),CHAR(10)&"근로기간: "&YEAR(발령대장_입력!$F501)&"."&MONTH(발령대장_입력!$F501)&"."&DAY(발령대장_입력!$F501)&"."&" ~ "&IF(ISNUMBER(발령대장_입력!$G501),YEAR(발령대장_입력!$G501)&"."&MONTH(발령대장_입력!$G501)&"."&DAY(발령대장_입력!$G501)&".","재직 중"),"")&IF(발령대장_입력!$H501="","",CHAR(10)&"퇴직사유: "&발령대장_입력!$H501)))) | F504: =IF($A504="","",IF(기본설정·안내!$B$5="","",기본설정·안내!$B$5)) | G504: =IF($A504="","",IF(기본설정·안내!$B$6="","",기본설정·안내!$B$6)) | H504: =IF($A504="","",IF(기본설정·안내!$B$7="","",기본설정·안내!$B$7)) | I504: =IF($A504="","",IF(기본설정·안내!$B$8="","",기본설정·안내!$B$8)) | J504: =IF($A504="","",IF(발령대장_입력!$K501<>"",발령대장_입력!$K501,IF(기본설정·안내!$B$9="","",기본설정·안내!$B$9)))
